BEGIN:VCALENDAR
VERSION:2.0
PRODID:-//ChamberMaster//Event Calendar 2.0//EN
METHOD:PUBLISH
X-PUBLISHED-TTL:P3D
REFRESH-INTERVAL:P3D
CALSCALE:GREGORIAN
BEGIN:VEVENT
DTSTART:20210101T190000Z
DTEND:20210101T190000Z
X-MICROSOFT-CDO-ALLDAYEVENT:FALSE
SUMMARY:.
DESCRIPTION:
X-ALT-DESC;FMTTYPE=text/html:&nbsp\;&nbsp\;&nbsp\;&nbsp\;
LOCATION:
UID:e.2837.202
SEQUENCE:3
DTSTAMP:20260425T153952Z
URL:https://business.equalitychamber.org/events/details/-202
END:VEVENT

END:VCALENDAR
