BEGIN:VCALENDAR
VERSION:2.0
PRODID:-//ChamberMaster//Event Calendar 2.0//EN
METHOD:PUBLISH
X-PUBLISHED-TTL:P3D
REFRESH-INTERVAL:P3D
CALSCALE:GREGORIAN
BEGIN:VEVENT
DTSTART:20201205T013000Z
DTEND:20201205T023000Z
X-MICROSOFT-CDO-ALLDAYEVENT:FALSE
SUMMARY:12th Annual Festival of Trees - Virtual
DESCRIPTION:Tickets\n\n\n\nBut this isn't just any virtual event.  Or No boring zoom call here .\n\n\n\nOn top of the amazing tree's and silent auction items\, we have celebrity stop in's\, entertainment\, give-aways and more!\n\n  \n\nHave your own bubble of friends and family? Be one of our Tree Elves and host your own happy hour viewing party! Special catering and cocktailing options available for delivery from Fresh From the Kitchen Catering. ((602) 694-1197)) \n\n \n\nSanta is powering up his tablet and will be checking off his naughty or nice spreadsheet. \n\n\n\nOn top of incredible live footage of our tree designs\, we will be hosting in person tree preview nights on December 1st and 2nd from 5:00PM to 8:00PM at the new Residence Inn by Marriott Phoenix Downtown. (132 S Central Ave\, Phoenix\, AZ 85004)\n\n\n\nBe sure and take advantage of these preview nights . Being a virtual event our tree's will be part of the silent auction\, raffle and a select few will be live auctioned  yes live!!  \n\n\n\nAnd don't worry\, your favorite travel trip has been conceptualized into a more travel safe experience. With 18 months to travel.... Our Travel Raffle $100 Tickets could win you an all inclusive trip to Puerto Vallarta\, Hawaii or a $3000.00 travel credit to design your own trip. (Link to Auction Site for Raffle Ticket 1cau.se/aA3)\n\n \n\nThe GPECC Festival of Tree's event has always been the kick-off of the holiday season so don't miss out.   \n\n\n\nThese are unprecedented times.  Your support for the chamber and our LGBTQ+ business and allies is as important as ever. \n\n\n\nDonate now to make sure these businesses are here for you when you need them.\n\n\n\nClick here to  purchase your Travel Raffle\, Silent Auction tickets and Tree Raffle!
X-ALT-DESC;FMTTYPE=text/html:<br />\n<strong><a href="https://phoenixgaycc.chambermaster.com/eventregistration/register/208">Tickets</a></strong><br />\n<br />\nBut this isn&rsquo\;t just any virtual event.&nbsp\; Or No boring zoom call here&hellip\;.<br />\n<br />\nOn top of the amazing tree&rsquo\;s and silent auction items\, we have celebrity stop in&rsquo\;s\, entertainment\, give-aways and more!<br />\n&nbsp\;&nbsp\;<br />\nHave your own bubble of friends and family? Be one of our Tree Elves and host your own happy hour viewing party! Special catering and cocktailing options available for delivery from Fresh From the Kitchen Catering. ((602) 694-1197))&nbsp\;<br />\n&nbsp\;<br />\nSanta is powering up his tablet and will be checking off his naughty or nice spreadsheet.&nbsp\;<br />\n<br />\nOn top of incredible live footage of our tree designs\, we will be hosting in person tree preview nights on December 1st and 2nd from 5:00PM to 8:00PM at the new Residence Inn by Marriott Phoenix Downtown. (132 S Central Ave\, Phoenix\, AZ 85004)<br />\n<br />\nBe sure and take advantage of these preview nights&hellip\;. Being a virtual event our tree&rsquo\;s will be part of the silent auction\, raffle and a select few will be live auctioned&hellip\; yes live!!&nbsp\;&nbsp\;<br />\n<br />\nAnd don&rsquo\;t worry\, your favorite travel trip has been conceptualized into a more travel safe experience. With 18 months to travel.... Our Travel Raffle $100 Tickets could win you an all inclusive trip to Puerto Vallarta\, Hawaii or a $3000.00 travel credit to design your own trip. (Link to Auction Site for Raffle Ticket 1cau.se/aA3)<br />\n&nbsp\;<br />\nThe GPECC Festival of Tree&rsquo\;s event has always been the kick-off of the holiday season so don&rsquo\;t miss out.&nbsp\; &nbsp\;<br />\n<br />\nThese are unprecedented times.&nbsp\; Your support for the chamber and our LGBTQ+ business and allies is as important as ever.&nbsp\;<br />\n<br />\nDonate now to make sure these businesses are here for you when you need them.<br />\n<br />\n<a href="http://1cau.se/aA3"><span style="box-sizing: border-box\; color: rgb(34\, 72\, 132)\; text-decoration-line: none\; overflow-wrap: break-word\; outline: 0px\; font-family: arial\; font-size: 14px\; font-weight: bolder\;"><span style="box-sizing: border-box\; font-size: 11pt\;">Click here to&nbsp\;</span></span></a><span style="box-sizing: border-box\; color: rgb(34\, 72\, 132)\; text-decoration-line: none\; overflow-wrap: break-word\; outline: 0px\; font-family: arial\; font-size: 14px\; font-weight: bolder\;"><span style="box-sizing: border-box\; font-size: 11pt\;"><a href="http://1cau.se/aA3" style="box-sizing: border-box\; color: rgb(34\, 72\, 132)\; text-decoration-line: none\; overflow-wrap: break-word\; outline: 0px\; font-family: arial\; font-size: 14px\;">&nbsp\;purchase your Travel Raffle\, Silent Auction tickets</a></span></span><a href="http://1cau.se/aA3"><span style="box-sizing: border-box\; color: rgb(34\, 72\, 132)\; text-decoration-line: none\; overflow-wrap: break-word\; outline: 0px\; font-family: arial\; font-size: 14px\; font-weight: bolder\;"><span style="box-sizing: border-box\; font-size: 11pt\;">&nbsp\;and Tree Raffle!</span></span></a>
LOCATION:Virtual Trees located at: Residence Inn by Marriott Phoenix Downtown 132 S Central Ave Phoenix\, AZ 85004
UID:e.2837.208
SEQUENCE:3
DTSTAMP:20260425T165421Z
URL:https://business.equalitychamber.org/events/details/12th-annual-festival-of-trees-virtual-208
END:VEVENT

END:VCALENDAR
