BEGIN:VCALENDAR
VERSION:2.0
PRODID:-//ChamberMaster//Event Calendar 2.0//EN
METHOD:PUBLISH
X-PUBLISHED-TTL:P3D
REFRESH-INTERVAL:P3D
CALSCALE:GREGORIAN
BEGIN:VEVENT
DTSTART:20220415T150000Z
DTEND:20220415T220000Z
X-MICROSOFT-CDO-ALLDAYEVENT:FALSE
SUMMARY:5th Annual Chamber Rainbow Classic
DESCRIPTION:For a unique and fun way to say "thanks" to your special clients and staff\, forget the office\, let's network on the golf course!  Los Ojos De La Familia AZ and One N Ten are our beneficiaries for the 5th annual Rainbow Golf Classic\n\n\n\nBeneficiaries Missions:\n\n\n\nLos Ojos De La Familia AZ: Making a difference in the lives of needful children and families.\n\n\n\nOne N Ten: Helping LGBTQ youth and young adults rise to their potential.\n\n\n\nAttendees will have the opportunity to win a Premium 7 Night Cruise for two to your choice of Caribbean\, Bermuda\, Canada\, and Alaska\, courtesy of Expedia Cruise Ship Centers!  Golfers may purchase a raffle ticket the day-of the tournament\, at $50 per ticket and limited to 100 tickets--and limited to those in attendance at the Chamber Rainbow Classic!\n\n\n\nSponsorship and Prize Opportunities\n\n\n\nPREMIUM TEE PRIZE SPONSOR: SOLD\n\n  GOLF PHONE CADDY AND CARRY BAG THAT ARE FULLY CUSTOMIZABLE WITH YOUR\n\nCOMPANY LOGO/INFO WILL BE USED OVER AND OVER AGAIN! THIS RUGGED GOLF\n\nCART PHONE HOLDER IS DESIGNED TO KEEP YOUR PHONE SAFE AND HANDY.\n\nPLATINUM SPONSOR: $1500\n\n  ONE GOLF FOURSOME (INCLUDES LUNCH AND 4 DRINK TICKETS PER PLAYER)  \n\nTENTED BOOTH SPACE AT PREFERRED HOLE TEE BOX (MUST PROVIDE OWN TABLE\,\n\nTENT\, PROMOTIONAL ITEMS)   ONE TEE BOX LOGOED SIGN\n\n\n\nGOLD SPONSOR: $600\n\n  ONE GOLF FOURSOME (INCLUDES FULL GOLF OPTION PER PLAYER)\n\n  ONE TEE BOX LOGOED SIGN\n\n\n\nDRONE DRIVE DROP SPONSOR: SOLD\n\n  TONS OF PROMOTIONAL PHOTO OPPS AS A SPONSOR OF ONE OF THE COOLEST\n\nON-COURSE CONTESTS!   TENTED BOOTH SPACE AT SELECTED TEE BOX (MUST\n\nPROVIDE OWN TABLE\, TENT\, PROMOTIONAL ITEMS)   ONE TEE BOX LOGOED SIGN\n\n\n\nGOLF BALL BAZOOKA LAUNCHER: SOLD\n\n  TONS OF PROMOTIONAL PHOTO OPPS AS A SPONSOR OF ONE OF THE COOLEST\n\nON-COURSE CONTESTS!   TENTED BOOTH SPACE AT SELECTED TEE BOX (MUST\n\nPROVIDE OWN TABLE\, TENT\, PROMOTIONAL ITEMS)   ONE TEE BOX LOGOED SIGN\n\n\n\nLUNCH SPONSOR: SOLD\n\n  EXCLUSIVE TABLE SPACE IN LUNCH SERVING AREA TO PROMOTE YOUR BUSINESS.\n\nPROMOTIONAL ITEMS\, SIGNAGE\, ETC. PROVIDED BY THE SPONSOR\n\n  4 LUNCHEON PASSES\n\n\n\nBREAKFAST SPONSOR: SOLD\n\n  EXCLUSIVE TABLE SPACE IN BREAKFAST SERVING AREA TO PROMOTE YOUR\n\nBUSINESS. PROMOTIONAL ITEMS\, SIGNAGE\, ETC. PROVIDED BY THE SPONSOR\n\n  4 BREAKFAST PASSES\n\n\n\nOWN THE HOLE SPONSOR: $500 (5 AVAILABLE)\n\n  TENTED BOOTH SPACE AT PREFERRED HOLE TEE BOX (MUST PROVIDE OWN TABLE\,\n\nTENT\, PROMOTIONAL ITEMS)   ONE TEE BOX LOGOED SIGN\n\n\n\nBEVERAGE CART SPONSOR: SOLD\n\n  YOUR COMPANY LOGO/NAME SHOWN ON PRINTED DRINK TICKETS TO BE USED ON\n\nTHE COURSE WITH THE BEVERAGE CART\n\n\n\nPHOTOGRAPHY SPONSOR: SOLD\n\n  YOUR COMPANY LOGO/NAME TO BE HIGHLIGHTED AS PROVIDING THE\n\nCOMMEMORATIVE TEAM PHOTOS\n\n\n\nEVENT BROCHURE AND SCHEDULE SPONSOR: SOLD\n\n  YOUR COMPANY LOGO/NAME TO BE HIGHLIGHTED AS PROVIDING THE\n\nCOMMEMORATIVE EVENT BROCHURE AND SCHEDULE.\n\n\n\nSCORECARD SPONSOR: SOLD\n\n  YOUR COMPANY LOGO/NAME WILL BE SHOWCASED ON OFFICIAL EVENT SCORECARD\n\n\n\nGOLF BALL SPONSOR: $200\n\n  ONE SLEEVE OF GOLF BALLS FEATURING YOUR COMPANY LOGO WILL BE GIVEN TO\n\nEACH OF THE PLAYERS (MUST PROVIDE YOUR OWN LOGOED GOLF BALLS)\n\n\n\nREFRESHING COLD TOWEL SPONSOR: SOLD\n\n  BE THE WELCOME SIGHT OF REFRESHING COOL ICY TOWELS BEING DELIVERED\n\nON THE COURSE DURING PLAY TO HELP KEEP THE DESERT HEAT AT BAY! MUST\n\nPROVIDE YOUR OWN TOWELS THAT CAN BE CUSTOMIZED WITH YOUR COMPANY\n\nLOGO AND INFORMATION.\n\n\n\nSPECIAL HOLE SPONSOR: $200 EACH\n\n(2 LONG DRIVE + 2 CLOSEST TO THE PIN = 4 TOTAL)\n\n  ONE TEE BOX LOGOED SIGN\n\n  RECOGNITION AS SPECIAL HOLE\n\nSPONSORSHIP AT THE LUNCHEON\n\nEVENT AND MAY PRESENT THE AWARD\n\n\n\nHOLE SPONSOR: $100 EACH\n\n  ONE TEE BOX LOGOED SIGN\n\n(SPONSOR MUST PROVIDE\n\nHIGH RESOLUTION\n\nCOMPANY LOGO IMAGE)\n\n\n\nGOLF OPTION: $125 PER PLAYER\n\n  INCLUDES ROUND OF GOLF\,\n\nCART RENTAL\, RANGE BALLS\,\n\nCONTINENTAL BREAKFAST\,\n\nLUNCH\, 1 DRINK TICKET\,\n\nCOMMEMORATIVE PHOTO\,\n\nCOOL PREMIUM TEE PRIZE\n\n\n\nLUNCH-ONLY OPTION\n\n  WILL OCCUR APPROXIMATELY\n\n1:00PM - 2:30PM IMMEDIATELY\n\nAFTER THE GOLF ROUND\n\n  $30 FOR CHAMBER MEMBERS\n\n  $35 FOR NON-CHAMBERS\n\n\n\nGRAND RAFFLE TRAVEL PRIZE - $50\n\nChance to win a Premium 7-Night Cruise for two to your choice of Caribbean\, Bermuda\, Canada and Alaska.\n\nVIP PASS - $40\n\n  5 Raffle prize tickets                                                 \n\n  1 Exclusive Ticket to win a foursome of golf at the Biltmore Golf Course\n\n  2 Mulligans\n\n  $12 Jackson's Car Wash\n\n  Your passes to play in the on-course contests of:\n\n\n	Golf Ball Bazooka Launcher\n	Drone Drive Drop\n	Wheel of Fortune Hole\n\n\n\n\nPRIDE PASS - $90\n\n  Both the VIP Pass and the Grand Raffle Travel Prize in one Super Deal!
X-ALT-DESC;FMTTYPE=text/html:<p>For a unique and fun way to say &quot\;thanks&quot\; to your special clients and staff\, forget the office\, let&#39\;s network on the golf course!&nbsp\; <strong>Los Ojos De La Familia AZ</strong> and <strong>One&bull\;N&bull\;Ten</strong> are our beneficiaries for the 5th annual Rainbow Golf Classic<br />\n<br />\n<u>Beneficiaries Missions:</u><br />\n<br />\n<strong>Los Ojos De La Familia AZ:</strong> Making a difference in the lives of needful children and families.<br />\n<br />\n<strong>One&bull\;N&bull\;Ten:&nbsp\;</strong>Helping LGBTQ youth and young adults rise to their potential.<br />\n<br />\n<span id="docs-internal-guid-614cd015-7fff-f5de-ebf5-5d76da069c03"><span style="font-size: 10.5pt\; font-family: Arial\; color: rgb(68\, 68\, 68)\; font-variant-numeric: normal\; font-variant-east-asian: normal\; vertical-align: baseline\; white-space: pre-wrap\;">Attendees will have the opportunity to win a Premium 7 Night Cruise for two to your choice of Caribbean\, Bermuda\, Canada\, and Alaska\, courtesy of Expedia Cruise Ship Centers!&nbsp\; Golfers may purchase a raffle ticket the day-of the tournament\, at $50 per ticket and limited to 100 tickets--and limited to those in attendance at the Chamber Rainbow Classic!</span></span><br />\n<br />\n<span><span style="font-size: 10.5pt\; font-family: Arial\; color: rgb(68\, 68\, 68)\; font-variant-numeric: normal\; font-variant-east-asian: normal\; vertical-align: baseline\; white-space: pre-wrap\;"><strong><u>Sponsorship and Prize Opportunities</u></strong></span></span><br />\n<br />\n<span style="color:#800080\;"><strong>PREMIUM TEE PRIZE SPONSOR:&nbsp\;</strong></span><strong><span style="color: rgb(255\, 0\, 0)\;">SOLD</span></strong><br />\n&bull\; GOLF PHONE CADDY AND CARRY BAG THAT ARE FULLY CUSTOMIZABLE WITH YOUR<br />\nCOMPANY LOGO/INFO WILL BE USED OVER AND OVER AGAIN! THIS RUGGED GOLF<br />\nCART PHONE HOLDER IS DESIGNED TO KEEP YOUR PHONE SAFE AND HANDY.</p>\n\n<p><strong><span style="color:#008000\;">PLATINUM SPONSOR: $1500</span></strong><br />\n&bull\; ONE GOLF FOURSOME (INCLUDES LUNCH AND 4 DRINK TICKETS PER PLAYER) &bull\;<br />\nTENTED BOOTH SPACE AT PREFERRED HOLE TEE BOX (MUST PROVIDE OWN TABLE\,<br />\nTENT\, PROMOTIONAL ITEMS) &bull\; ONE TEE BOX LOGOED SIGN<br />\n<br />\n<strong><span style="color:#800080\;">GOLD SPONSOR: $600</span></strong><br />\n&bull\; ONE GOLF FOURSOME (INCLUDES FULL GOLF OPTION PER PLAYER)<br />\n&bull\; ONE TEE BOX LOGOED SIGN<br />\n<br />\n<strong><span style="color:#008000\;">DRONE DRIVE DROP SPONSOR: </span><span style="color:#FF0000\;">SOLD</span></strong><br />\n&bull\; TONS OF PROMOTIONAL PHOTO OPPS AS A SPONSOR OF ONE OF THE COOLEST<br />\nON-COURSE CONTESTS! &bull\; TENTED BOOTH SPACE AT SELECTED TEE BOX (MUST<br />\nPROVIDE OWN TABLE\, TENT\, PROMOTIONAL ITEMS) &bull\; ONE TEE BOX LOGOED SIGN<br />\n<br />\n<strong><span style="color:#800080\;">GOLF BALL BAZOOKA LAUNCHER:&nbsp\;</span><span style="color: rgb(255\, 0\, 0)\;">SOLD</span></strong><br />\n&bull\; TONS OF PROMOTIONAL PHOTO OPPS AS A SPONSOR OF ONE OF THE COOLEST<br />\nON-COURSE CONTESTS! &bull\; TENTED BOOTH SPACE AT SELECTED TEE BOX (MUST<br />\nPROVIDE OWN TABLE\, TENT\, PROMOTIONAL ITEMS) &bull\; ONE TEE BOX LOGOED SIGN<br />\n<br />\n<strong><span style="color:#008000\;">LUNCH SPONSOR:&nbsp\;</span><span style="color: rgb(255\, 0\, 0)\;">SOLD</span></strong><br />\n&bull\; EXCLUSIVE TABLE SPACE IN LUNCH SERVING AREA TO PROMOTE YOUR BUSINESS.<br />\nPROMOTIONAL ITEMS\, SIGNAGE\, ETC. PROVIDED BY THE SPONSOR<br />\n&bull\; 4 LUNCHEON PASSES<br />\n<br />\n<strong><span style="color:#800080\;">BREAKFAST SPONSOR:&nbsp\;</span><span style="color: rgb(255\, 0\, 0)\;">SOLD</span></strong><br />\n&bull\; EXCLUSIVE TABLE SPACE IN BREAKFAST SERVING AREA TO PROMOTE YOUR<br />\nBUSINESS. PROMOTIONAL ITEMS\, SIGNAGE\, ETC. PROVIDED BY THE SPONSOR<br />\n&bull\; 4 BREAKFAST PASSES<br />\n<br />\n<strong><span style="color:#008000\;">OWN THE HOLE SPONSOR: $500 </span></strong><span style="color:#008000\;">(5 AVAILABLE)</span><br />\n&bull\; TENTED BOOTH SPACE AT PREFERRED HOLE TEE BOX (MUST PROVIDE OWN TABLE\,<br />\nTENT\, PROMOTIONAL ITEMS) &bull\; ONE TEE BOX LOGOED SIGN<br />\n<br />\n<strong><span style="color:#800080\;">BEVERAGE CART SPONSOR:&nbsp\;</span><span style="color: rgb(255\, 0\, 0)\;">SOLD</span></strong><br />\n&bull\; YOUR COMPANY LOGO/NAME SHOWN ON PRINTED DRINK TICKETS TO BE USED ON<br />\nTHE COURSE WITH THE BEVERAGE CART<br />\n<br />\n<strong><span style="color:#008000\;">PHOTOGRAPHY SPONSOR:&nbsp\;</span><span style="color: rgb(255\, 0\, 0)\;">SOLD</span></strong><br />\n&bull\; YOUR COMPANY LOGO/NAME TO BE HIGHLIGHTED AS PROVIDING THE<br />\nCOMMEMORATIVE TEAM PHOTOS<br />\n<br />\n<strong><span style="color:#800080\;">EVENT BROCHURE AND SCHEDULE SPONSOR: </span><span style="color: rgb(255\, 0\, 0)\;">SOLD</span></strong><br />\n&bull\; YOUR COMPANY LOGO/NAME TO BE HIGHLIGHTED AS PROVIDING THE<br />\nCOMMEMORATIVE EVENT BROCHURE AND SCHEDULE.<br />\n<br />\n<strong><span style="color:#008000\;">SCORECARD SPONSOR: </span><span style="color: rgb(255\, 0\, 0)\;">SOLD</span></strong><br />\n&bull\; YOUR COMPANY LOGO/NAME WILL BE SHOWCASED ON OFFICIAL EVENT SCORECARD<br />\n<br />\n<strong><span style="color:#800080\;">GOLF BALL SPONSOR: $200</span></strong><br />\n&bull\; ONE SLEEVE OF GOLF BALLS FEATURING YOUR COMPANY LOGO WILL BE GIVEN TO<br />\nEACH OF THE PLAYERS (MUST PROVIDE YOUR OWN LOGOED GOLF BALLS)<br />\n<br />\n<strong><span style="color:#008000\;">REFRESHING COLD TOWEL SPONSOR:&nbsp\;</span><span style="color: rgb(255\, 0\, 0)\;">SOLD</span></strong><br />\n&bull\; BE THE WELCOME SIGHT OF REFRESHING COOL ICY TOWELS BEING DELIVERED<br />\nON THE COURSE DURING PLAY TO HELP KEEP THE DESERT HEAT AT BAY! MUST<br />\nPROVIDE YOUR OWN TOWELS THAT CAN BE CUSTOMIZED WITH YOUR COMPANY<br />\nLOGO AND INFORMATION.<br />\n<br />\n<strong><span style="color:#800080\;">SPECIAL HOLE SPONSOR: $200 EACH</span></strong><br />\n<span style="color:#800080\;">(2 LONG DRIVE + 2 CLOSEST TO THE PIN = 4 TOTAL)</span><br />\n&bull\; ONE TEE BOX LOGOED SIGN<br />\n&bull\; RECOGNITION AS SPECIAL HOLE<br />\nSPONSORSHIP AT THE LUNCHEON<br />\nEVENT AND MAY PRESENT THE AWARD<br />\n<br />\n<span style="color:#008000\;"><strong>HOLE SPONSOR: $100 EACH</strong></span><br />\n&bull\; ONE TEE BOX LOGOED SIGN<br />\n(SPONSOR MUST PROVIDE<br />\nHIGH RESOLUTION<br />\nCOMPANY LOGO IMAGE)<br />\n<br />\n<span style="color:#800080\;"><strong>GOLF OPTION: $125 PER PLAYER</strong></span><br />\n&bull\; INCLUDES ROUND OF GOLF\,<br />\nCART RENTAL\, RANGE BALLS\,<br />\nCONTINENTAL BREAKFAST\,<br />\nLUNCH\, 1 DRINK TICKET\,<br />\nCOMMEMORATIVE PHOTO\,<br />\nCOOL PREMIUM TEE PRIZE<br />\n<br />\n<span style="color:#008000\;"><strong>LUNCH-ONLY OPTION</strong></span><br />\n&bull\; WILL OCCUR APPROXIMATELY<br />\n1:00PM - 2:30PM IMMEDIATELY<br />\nAFTER THE GOLF ROUND<br />\n<strong>&bull\; $30 FOR CHAMBER MEMBERS<br />\n&bull\; $35 FOR NON-CHAMBERS<br />\n<br />\n<span style="color:#FF8C00\;"><span id="docs-internal-guid-32cf96f9-7fff-ae8c-a7cf-bdd4aa846ba9"><span style="font-size: 10.5pt\; font-family: Arial\; background-color: transparent\; font-variant-numeric: normal\; font-variant-east-asian: normal\; vertical-align: baseline\; white-space: pre-wrap\;">GRAND RAFFLE TRAVEL PRIZE - $50</span></span></span></strong><br />\nChance to win a Premium 7-Night Cruise for two to your choice of Caribbean\, Bermuda\, Canada and Alaska.</p>\n\n<p dir="ltr" style="line-height:1.38\;margin-top:0pt\;margin-bottom:0pt\;"><strong><span style="color:#FF0000\;"><span id="docs-internal-guid-32cf96f9-7fff-ae8c-a7cf-bdd4aa846ba9"><span style="font-size: 10.5pt\; font-family: Arial\; background-color: transparent\; font-variant-numeric: normal\; font-variant-east-asian: normal\; vertical-align: baseline\; white-space: pre-wrap\;">VIP PASS - $40</span></span></span></strong></p>\n\n<p dir="ltr" style="line-height:1.38\;margin-top:0pt\;margin-bottom:0pt\;"><span id="docs-internal-guid-32cf96f9-7fff-ae8c-a7cf-bdd4aa846ba9"><span style="font-size: 10.5pt\; font-family: Arial\; color: rgb(0\, 0\, 0)\; background-color: transparent\; font-variant-numeric: normal\; font-variant-east-asian: normal\; vertical-align: baseline\; white-space: pre-wrap\;">&bull\; 5 Raffle prize tickets&nbsp\;&nbsp\;&nbsp\;&nbsp\;&nbsp\;&nbsp\;&nbsp\;&nbsp\;&nbsp\;&nbsp\;&nbsp\;&nbsp\;&nbsp\;&nbsp\;&nbsp\;&nbsp\;&nbsp\;&nbsp\;&nbsp\;&nbsp\;&nbsp\;&nbsp\;&nbsp\;&nbsp\;&nbsp\;&nbsp\;&nbsp\;&nbsp\;&nbsp\;&nbsp\;&nbsp\;&nbsp\;&nbsp\;&nbsp\;&nbsp\;&nbsp\;&nbsp\;&nbsp\;&nbsp\;&nbsp\;&nbsp\;&nbsp\;&nbsp\;&nbsp\;&nbsp\;&nbsp\;&nbsp\;&nbsp\;&nbsp\;</span></span></p>\n\n<p dir="ltr" style="line-height:1.38\;margin-top:0pt\;margin-bottom:0pt\;"><span id="docs-internal-guid-32cf96f9-7fff-ae8c-a7cf-bdd4aa846ba9"><span style="font-size: 10.5pt\; font-family: Arial\; color: rgb(0\, 0\, 0)\; background-color: transparent\; font-variant-numeric: normal\; font-variant-east-asian: normal\; vertical-align: baseline\; white-space: pre-wrap\;">&bull\; 1 Exclusive Ticket to win a foursome of golf at the Biltmore Golf Course</span></span></p>\n\n<p dir="ltr" style="line-height:1.38\;margin-top:0pt\;margin-bottom:0pt\;"><span id="docs-internal-guid-32cf96f9-7fff-ae8c-a7cf-bdd4aa846ba9"><span style="font-size: 10.5pt\; font-family: Arial\; color: rgb(0\, 0\, 0)\; background-color: transparent\; font-variant-numeric: normal\; font-variant-east-asian: normal\; vertical-align: baseline\; white-space: pre-wrap\;">&bull\; 2 Mulligans</span></span></p>\n\n<p dir="ltr" style="line-height:1.38\;margin-top:0pt\;margin-bottom:0pt\;"><span id="docs-internal-guid-32cf96f9-7fff-ae8c-a7cf-bdd4aa846ba9"><span style="font-size: 10.5pt\; font-family: Arial\; color: rgb(0\, 0\, 0)\; background-color: transparent\; font-variant-numeric: normal\; font-variant-east-asian: normal\; vertical-align: baseline\; white-space: pre-wrap\;">&bull\; $12 Jackson&rsquo\;s Car Wash</span></span></p>\n\n<p dir="ltr" style="line-height:1.38\;margin-top:0pt\;margin-bottom:0pt\;"><span id="docs-internal-guid-32cf96f9-7fff-ae8c-a7cf-bdd4aa846ba9"><span style="font-size: 10.5pt\; font-family: Arial\; color: rgb(0\, 0\, 0)\; background-color: transparent\; font-variant-numeric: normal\; font-variant-east-asian: normal\; vertical-align: baseline\; white-space: pre-wrap\;">&bull\; Your passes to play in the on-course contests of:</span></span></p>\n\n<ul style="margin-top: 0px\; margin-bottom: 0px\; padding-inline-start: 48px\;">\n	<li style="line-height: 1.38\; margin-top: 0pt\; margin-bottom: 0pt\;"><span><span style="font-size: 10.5pt\; background-color: transparent\; font-variant-numeric: normal\; font-variant-east-asian: normal\; vertical-align: baseline\; white-space: pre-wrap\;">Golf Ball Bazooka Launcher</span></span></li>\n	<li style="line-height: 1.38\; margin-top: 0pt\; margin-bottom: 0pt\;"><span><span style="font-size: 10.5pt\; background-color: transparent\; font-variant-numeric: normal\; font-variant-east-asian: normal\; vertical-align: baseline\; white-space: pre-wrap\;"><span id="docs-internal-guid-32cf96f9-7fff-ae8c-a7cf-bdd4aa846ba9"><span style="font-size: 10.5pt\; background-color: transparent\; font-variant-numeric: normal\; font-variant-east-asian: normal\; vertical-align: baseline\; white-space: pre-wrap\;">Drone Drive Drop</span></span></span></span></li>\n	<li style="line-height: 1.38\; margin-top: 0pt\; margin-bottom: 0pt\;"><span><span style="font-size: 10.5pt\; background-color: transparent\; font-variant-numeric: normal\; font-variant-east-asian: normal\; vertical-align: baseline\; white-space: pre-wrap\;"><span><span style="font-size: 10.5pt\; background-color: transparent\; font-variant-numeric: normal\; font-variant-east-asian: normal\; vertical-align: baseline\; white-space: pre-wrap\;"><span id="docs-internal-guid-32cf96f9-7fff-ae8c-a7cf-bdd4aa846ba9"><span style="font-size: 10.5pt\; background-color: transparent\; font-variant-numeric: normal\; font-variant-east-asian: normal\; vertical-align: baseline\; white-space: pre-wrap\;">Wheel of Fortune Hole</span></span></span></span></span></span></li>\n</ul>\n\n<p dir="ltr" role="presentation" style="list-style-type: circle\; font-size: 10.5pt\; font-family: Arial\; color: rgb(0\, 0\, 0)\; background-color: transparent\; font-variant-numeric: normal\; font-variant-east-asian: normal\; vertical-align: baseline\; white-space: pre\;line-height: 1.2\; margin-top: 0pt\; margin-bottom: 12pt\;"><br />\n<span style="color:#0000FF\;"><strong><span id="docs-internal-guid-32cf96f9-7fff-ae8c-a7cf-bdd4aa846ba9"><span style="font-size: 10.5pt\; background-color: transparent\; font-variant-numeric: normal\; font-variant-east-asian: normal\; vertical-align: baseline\; white-space: pre-wrap\;">PRIDE PASS - $90</span></span></strong></span><br />\n&bull\; Both the VIP Pass and the Grand Raffle Travel Prize in one Super Deal!</p>\n
LOCATION:Arizona Biltmore Golf Club - Links Course The beautiful Links golf course is located in the heart of the Phoenix Mountain Preserve\, the Arizona Biltmore Golf Club is as convenient as it is exclusive. Adjacent to the legendary Arizona Biltmore Hotel and Resort\, this storied golf course stand as testimony to some of the greatest golf outings in all of Arizona. With U.S. Presidents\, Foreign Leaders\, Hollywood celebrities\, and yes\, millions of individuals from Arizona and even afar will recall their own memorable memories of the two golf courses.
UID:e.2837.541
SEQUENCE:3
DTSTAMP:20260424T182042Z
URL:https://business.equalitychamber.org/events/details/5th-annual-chamber-rainbow-classic-541
END:VEVENT

END:VCALENDAR
