BEGIN:VCALENDAR
VERSION:2.0
PRODID:-//ChamberMaster//Event Calendar 2.0//EN
METHOD:PUBLISH
X-PUBLISHED-TTL:P3D
REFRESH-INTERVAL:P3D
CALSCALE:GREGORIAN
BEGIN:VEVENT
DTSTART;VALUE=DATE:20230428
DTEND;VALUE=DATE:20230429
TRANSP:TRANSPARENT
X-MICROSOFT-CDO-ALLDAYEVENT:TRUE
SUMMARY:7th Annual Chamber Rainbow Classic
DESCRIPTION:For a unique and fun way to say "thanks" to your special clients and staff\, forget the office\, let's network on the golf course!  Los Ojos De La Familia AZ and Homeless Youth Connection are our beneficiaries for the 6th annual Rainbow Golf Classic\n\n\n\nBeneficiaries Missions:\n\n\n\nLos Ojos De La Familia AZ: Making a difference in the lives of needful children and families.\n\n\n\nHomeless Youth Connection: Offers services and programs that engage youth who are experiencing homelessness.\n\n\n\nAttendees will have the opportunity to win a Premium 7-Night Cruise for two to your choice of Caribbean or Australia courtesy of Expedia Cruise Ship Centers!  Golfers may purchase a raffle ticket the day of the tournament\, at $50 per ticket and limited to 100 tickets--and limited to those in attendance at the Chamber Rainbow Classic!\n\n\n\nSponsorship and Prize Opportunities\n\n\n\nPLATINUM SPONSOR: $1500\n\n  ONE GOLF FOURSOME (INCLUDES PREFERRED STARTING POSITION AND RESERVED LUNCHEON\n\nTABLE)   TENTED BOOTH SPACE AT PREFERRED HOLE TEE BOX (MUST PROVIDE OWN TABLE\,\n\nTENT\, PROMOTIONAL ITEMS)   ONE TEE BOX LOGOED SIGN\n\n\n\nDRONE DRIVE DROP SPONSOR: $1000\n\n  TONS OF PROMOTIONAL PHOTO OPPS AS A SPONSOR OF ONE OF THE COOLEST ON-COURSE CONTESTS!   TENTED BOOTH SPACE AT SELECTED TEE BOX (MUST PROVIDE OWN TABLE\, TENT\, PROMOTIONAL ITEMS)   ONE TEE BOX LOGOED SIGN\n\n\n\nGOLF BALL BAZOOKA LAUNCHER: SOLD\n\n  TONS OF PROMOTIONAL PHOTO OPPS AS A SPONSOR OF ONE OF THE COOLEST ON-COURSE CONTESTS!   TENTED BOOTH SPACE AT SELECTED TEE BOX (MUST PROVIDE OWN TABLE\, TENT\, PROMOTIONAL ITEMS)   ONE TEE BOX LOGOED SIGN\n\n\n\nHOLE IN ONE SPONSOR: $800\n\n  YOUR COMPANY LOGO/NAME WILL BE SHOWN ON THE SPECIAL SIGNAGE OF THE HOLE IN ONE HOLE (CASH PRIZE IS $20\,000) AS WELL AS ALL OF THE OTHER PAR 3 HOLES WITH SPECIAL PRIZES.\n\n\n\nPREMIUM TEE PRIZE SPONSOR: SOLD\n\n  ULTRA PREMIUM PLAYERS GOLF TOWEL PRINTED WITH YOUR COMPANY LOGO WILL BE USED OVER AND OVER AGAIN! THIS 16" X 24" UNIQUELY WOVEN TOWEL IS DESIGNED TO RETAIN MOISTURE WHILE EFFECTIVELY CLEANING   MULTIPLE SPACES AVAILABLE.\n\n\n\nGOLD SPONSOR: $600\n\n  ONE GOLF FOURSOME (INCLUDES FULL GOLF OPTION PER PLAYER)\n\n  ONE TEE BOX LOGOED SIGN\n\n\n\nBEAT THE FEMALE PRO SPONSOR: SOLD\n\n  ONE TEE BOX LOGOED SIGN   RECOGNITION AS BEAT THE FEMALE PRO SPONSOR AT THE LUNCHEON EVENT AND MAY PRESENT THE AWARD\n\n\n\nLUNCH SPONSOR: SOLD\n\n  EXCLUSIVE TABLE SPACE IN LUNCH SERVING AREA TO PROMOTE YOUR BUSINESS. PROMOTIONAL ITEMS\, SIGNAGE\, ETC. PROVIDED BY THE SPONSOR   2 LUNCHEON PASSES\n\n\n\nSNACK SPONSOR: SOLD\n\n  ON COURSE SNACKS ARE ENJOYED BY EACH PLAYER COURTESY OF YOUR BUSINESS (ACTUAL SNACKS ARE PROVIDED BY CRC6 EVENT) YOUR COMPANY LOGO/NAME TO BE HIGHLIGHTED AS SNACK SPONSOR IN EVENT BROCHURE\n\n\n\nOWN THE HOLE SPONSOR: $500 (ONLY 1 LEFT)\n\n  TENTED BOOTH SPACE AT PREFERRED HOLE TEE BOX (MUST PROVIDE OWN TABLE\, TENT\, PROMOTIONAL ITEMS)   ONE TEE BOX LOGOED SIGN\n\n\n\nBEVERAGE CART SPONSOR: SOLD\n\n  YOUR COMPANY LOGO/NAME SHOWN ON PRINTED DRINK TICKETS TO BE USED ON THE COURSE WITH THE BEVERAGE CART\n\n\n\nPHOTOGRAPHY SPONSOR: $500\n\n  YOUR COMPANY LOGO/NAME TO BE HIGHLIGHTED AS PROVIDING THE COMMEMORATIVE TEAM PHOTOS\n\n\n\nVIP PASS SPONSOR: $400\n\n  YOUR COMPANY LOGO/NAME TO BE SHOWCASED ON OFFICE EVENT VIP PASS\n\n\n\nEVENT PROGRAM SPONSOR: $400\n\n  YOUR COMPANY LOGO/NAME TO BE HIGHLIGHTED AS PROVIDING THE COMMEMORATIVE EVENT PROGRAM.\n\n\n\nSCORECARD SPONSOR: SOLD\n\n  YOUR COMPANY LOGO/NAME WILL BE SHOWCASED ON OFFICIAL EVENT SCORECARD\n\n\n\nREFRESHING COLD TOWEL SPONSOR: SOLD\n\n  BE THE WELCOME SIGHT OF REFRESHING COOL ICY TOWELS BEING DELIVERED ON THE COURSE DURING PLAY TO HELP KEEP THE DESERT HEAT AT BAY! MUST PROVIDE YOUR OWN TOWELS\n\nTHAT CAN BE CUSTOMIZED WITH YOUR COMPANY LOGO AND INFORMATION.\n\n\n\nSPECIAL HOLE SPONSOR: $200 EACH (ONLY 3 LEFT)\n\n(2 LONG DRIVE + 2 CLOSEST TO THE PIN = 4 TOTAL)\n\n  ONE TEE BOX LOGOED SIGN\n\n  RECOGNITION AS SPECIAL HOLE\n\nSPONSORSHIP AT THE LUNCHEON\n\nEVENT AND MAY PRESENT THE AWARD\n\n\n\nHOLE SPONSOR: $100 EACH\n\n  ONE TEE BOX LOGOED SIGN\n\n(SPONSOR MUST PROVIDE\n\nHIGH RESOLUTION\n\nCOMPANY LOGO IMAGE)\n\n\n\nGOLF OPTION: $125 PER PLAYER\n\n  INCLUDES ROUND OF GOLF\,\n\nCART RENTAL\, RANGE BALLS\,\n\nON-COURSE SNACK\, HOT\n\nBBQ LUNCH\, 1 DRINK TICKET\,\n\nCOMMEMORATIVE PHOTO\,\n\nCOOL PREMIUM TEE PRIZE\n\n\n\nLUNCH-ONLY OPTION\n\n  WILL OCCUR APPROXIMATELY\n\n1:00PM - 2:30PM IMMEDIATELY\n\nAFTER THE GOLF ROUND\n\n  $35 FOR CHAMBER MEMBERS\n\n  $40 FOR NON-CHAMBERS\n\n\n\nGRAND RAFFLE TRAVEL PRIZE - $50\n\nChance to win a Premium 7-Night Cruise for two to your choice of Caribbean or Australia \n\nVIP PASS - $40\n\n  5 Raffle prize tickets                                                 \n\n  1 Exclusive Ticket to win a foursome of golf at Stonecreek Golf Club\n\n  2 Mulligans\n\n  Your passes to play in the on-course contests of:\n\n\n	Golf Ball Bazooka Launcher\n	Drone Drive Drop\n	Wheel of Fortune Hole\n\n\n\n\nPRIDE PASS - $90\n\n  Both the VIP Pass and the Grand Raffle Travel Prize in one Super Deal!
X-ALT-DESC;FMTTYPE=text/html:<p>For a unique and fun way to say &quot\;thanks&quot\; to your special clients and staff\, forget the office\, let&#39\;s network on the golf course!&nbsp\; <strong>Los Ojos De La Familia AZ</strong> and <b>Homeless Youth Connection</b>&nbsp\;are our beneficiaries for the 6th annual Rainbow Golf Classic<br />\n<br />\n<u>Beneficiaries Missions:</u><br />\n<br />\n<strong>Los Ojos De La Familia AZ:</strong> Making a difference in the lives of needful children and families.<br />\n<br />\n<strong>Homeless Youth Connection:&nbsp\;</strong>Offers services and programs that engage youth who are experiencing homelessness.<br />\n<br />\n<span id="docs-internal-guid-614cd015-7fff-f5de-ebf5-5d76da069c03"><span style="font-size: 10.5pt\; font-family: Arial\; color: rgb(68\, 68\, 68)\; font-variant-numeric: normal\; font-variant-east-asian: normal\; vertical-align: baseline\; white-space: pre-wrap\;">Attendees will have the opportunity to win a Premium 7-Night Cruise for two to your choice of Caribbean or Australia courtesy of Expedia Cruise Ship Centers!&nbsp\; Golfers may purchase a raffle ticket the day of the tournament\, at $50 per ticket and limited to 100 tickets--and limited to those in attendance at the Chamber Rainbow Classic!</span></span><br />\n<br />\n<span style="font-size: 10.5pt\; font-family: Arial\; color: rgb(68\, 68\, 68)\; font-variant-numeric: normal\; font-variant-east-asian: normal\; vertical-align: baseline\; white-space: pre-wrap\;"><strong><u>Sponsorship and Prize Opportunities</u></strong></span><br />\n<br />\n<strong><span style="color:#008000\;">PLATINUM SPONSOR: $1500</span></strong><br />\n&bull\; ONE GOLF FOURSOME (INCLUDES PREFERRED STARTING POSITION AND RESERVED LUNCHEON<br />\nTABLE) &bull\; TENTED BOOTH SPACE AT PREFERRED HOLE TEE BOX (MUST PROVIDE OWN TABLE\,<br />\nTENT\, PROMOTIONAL ITEMS) &bull\; ONE TEE BOX LOGOED SIGN<br />\n<br />\n<strong><span style="color: rgb(0\, 128\, 0)\;">DRONE DRIVE DROP SPONSOR: $1000</span></strong><br />\n&bull\; TONS OF PROMOTIONAL PHOTO OPPS AS A SPONSOR OF ONE OF THE COOLEST ON-COURSE&nbsp\;CONTESTS! &bull\; TENTED BOOTH SPACE AT SELECTED TEE BOX (MUST PROVIDE OWN TABLE\,&nbsp\;TENT\, PROMOTIONAL ITEMS) &bull\; ONE TEE BOX LOGOED SIGN<br />\n<br />\n<strong><span style="color: rgb(128\, 0\, 128)\;">GOLF BALL BAZOOKA LAUNCHER:&nbsp\;</span><span style="background-image: initial\; background-position: initial\; background-size: initial\; background-repeat: initial\; background-attachment: initial\; background-origin: initial\; background-clip: initial\;"><span style="color: red\;"><span style="font-family: arial\, sans-serif\;"><span style="font-size: 10pt\;">SOLD</span></span></span></span></strong><br />\n&bull\; TONS OF PROMOTIONAL PHOTO OPPS AS A SPONSOR OF ONE OF THE COOLEST ON-COURSE&nbsp\;CONTESTS! &bull\; TENTED BOOTH SPACE AT SELECTED TEE BOX (MUST PROVIDE OWN TABLE\,&nbsp\;TENT\, PROMOTIONAL ITEMS) &bull\; ONE TEE BOX LOGOED SIGN<br />\n<br />\n<font color="#800080"><b>HOLE IN ONE SPONSOR: $800</b></font><br />\n&bull\; YOUR COMPANY LOGO/NAME WILL BE SHOWN ON THE SPECIAL SIGNAGE OF THE HOLE IN ONE HOLE (CASH PRIZE IS $20\,000) AS WELL AS ALL OF THE OTHER PAR 3&nbsp\;HOLES WITH SPECIAL PRIZES.<br />\n<br />\n<strong><font color="#800080">PREMIUM TEE PRIZE SPONSOR: </font><span style="background-image: initial\; background-position: initial\; background-size: initial\; background-repeat: initial\; background-attachment: initial\; background-origin: initial\; background-clip: initial\;"><span style="color: red\;"><span style="font-family: arial\, sans-serif\;"><span style="font-size: 10pt\;">SOLD</span></span></span></span></strong><br />\n&bull\; ULTRA PREMIUM PLAYERS GOLF TOWEL PRINTED WITH YOUR COMPANY LOGO WILL&nbsp\;BE USED OVER AND OVER AGAIN! THIS 16&quot\; X 24&quot\; UNIQUELY WOVEN TOWEL IS DESIGNED TO&nbsp\;RETAIN MOISTURE WHILE EFFECTIVELY CLEANING &bull\;&nbsp\;MULTIPLE SPACES AVAILABLE.<br />\n<br />\n<strong><span style="color:#800080\;">GOLD SPONSOR: $600</span></strong><br />\n&bull\; ONE GOLF FOURSOME (INCLUDES FULL GOLF OPTION PER PLAYER)<br />\n&bull\; ONE TEE BOX LOGOED SIGN<br />\n<br />\n<strong><span style="color: rgb(128\, 0\, 128)\;">BEAT THE FEMALE PRO SPONSOR:&nbsp\;</span><span style="background-image: initial\; background-position: initial\; background-size: initial\; background-repeat: initial\; background-attachment: initial\; background-origin: initial\; background-clip: initial\;"><span style="color: red\;"><span style="font-family: arial\, sans-serif\;"><span style="font-size: 10pt\;">SOLD</span></span></span></span></strong><br />\n&bull\; ONE TEE BOX LOGOED SIGN &bull\; RECOGNITION AS BEAT THE FEMALE PRO SPONSOR AT&nbsp\;THE LUNCHEON EVENT AND MAY PRESENT THE AWARD<br />\n<br />\n<strong><span style="color:#008000\;">LUNCH SPONSOR:&nbsp\;</span><span style="background-image:initial\;background-position:initial\;background-size:initial\;background-repeat:initial\;background-attachment:initial\;background-origin:initial\;background-clip:initial\;"><span style="color:red\;"><span style="font-family:arial\,sans-serif\;"><span style="font-size:10pt\;">SOLD</span></span></span></span></strong><br />\n&bull\; EXCLUSIVE TABLE SPACE IN LUNCH SERVING AREA TO PROMOTE YOUR BUSINESS. PROMOTIONAL ITEMS\, SIGNAGE\, ETC. PROVIDED BY THE SPONSOR &bull\; 2 LUNCHEON PASSES<br />\n<br />\n<strong><span style="color: rgb(0\, 128\, 0)\;">SNACK SPONSOR:&nbsp\;</span><span style="background-image:initial\;background-position:initial\;background-size:initial\;background-repeat:initial\;background-attachment:initial\;background-origin:initial\;background-clip:initial\;"><span style="color:red\;"><span style="font-family:arial\,sans-serif\;"><span style="font-size:10pt\;">SOLD</span></span></span></span></strong><br />\n&bull\; ON COURSE SNACKS ARE ENJOYED BY EACH PLAYER COURTESY OF YOUR BUSINESS (ACTUAL SNACKS ARE PROVIDED BY CRC6 EVENT) YOUR COMPANY LOGO/NAME TO BE HIGHLIGHTED AS SNACK SPONSOR IN EVENT BROCHURE<br />\n<br />\n<strong><span style="color:#008000\;">OWN THE HOLE SPONSOR: $500 </span></strong><span style="color:#008000\;">(ONLY 1 LEFT)</span><br />\n&bull\; TENTED BOOTH SPACE AT PREFERRED HOLE TEE BOX (MUST PROVIDE OWN TABLE\, TENT\, PROMOTIONAL ITEMS) &bull\; ONE TEE BOX LOGOED SIGN<br />\n<br />\n<strong><span style="color:#800080\;">BEVERAGE CART SPONSOR:&nbsp\;</span><span style="background-image: initial\; background-position: initial\; background-size: initial\; background-repeat: initial\; background-attachment: initial\; background-origin: initial\; background-clip: initial\;"><span style="color: red\;"><span style="font-family: arial\, sans-serif\;"><span style="font-size: 10pt\;">SOLD</span></span></span></span></strong><br />\n&bull\; YOUR COMPANY LOGO/NAME SHOWN ON PRINTED DRINK TICKETS TO BE USED ON THE COURSE WITH THE BEVERAGE CART<br />\n<br />\n<strong><span style="color:#008000\;">PHOTOGRAPHY SPONSOR: $500</span></strong><br />\n&bull\; YOUR COMPANY LOGO/NAME TO BE HIGHLIGHTED AS PROVIDING THE COMMEMORATIVE TEAM PHOTOS<br />\n<br />\n<font color="#008000"><b>VIP PASS&nbsp\;SPONSOR: $400</b></font><br />\n&bull\; YOUR COMPANY LOGO/NAME TO BE SHOWCASED ON OFFICE EVENT VIP PASS<br />\n<br />\n<strong><span style="color:#800080\;">EVENT PROGRAM SPONSOR: $400</span></strong><br />\n&bull\; YOUR COMPANY LOGO/NAME TO BE HIGHLIGHTED AS PROVIDING THE COMMEMORATIVE EVENT PROGRAM.<br />\n<br />\n<strong><span style="color:#008000\;">SCORECARD SPONSOR: </span><span style="background-image: initial\; background-position: initial\; background-size: initial\; background-repeat: initial\; background-attachment: initial\; background-origin: initial\; background-clip: initial\;"><span style="color: red\;"><span style="font-family: arial\, sans-serif\;"><span style="font-size: 10pt\;">SOLD</span></span></span></span></strong><br />\n&bull\; YOUR COMPANY LOGO/NAME WILL BE SHOWCASED ON OFFICIAL EVENT SCORECARD<br />\n<br />\n<strong><span style="color:#008000\;">REFRESHING COLD TOWEL SPONSOR:&nbsp\;</span><span style="background-image: initial\; background-position: initial\; background-size: initial\; background-repeat: initial\; background-attachment: initial\; background-origin: initial\; background-clip: initial\;"><span style="color: red\;"><span style="font-family: arial\, sans-serif\;"><span style="font-size: 10pt\;">SOLD</span></span></span></span></strong><br />\n&bull\; BE THE WELCOME SIGHT OF REFRESHING COOL ICY TOWELS BEING DELIVERED ON THE COURSE DURING PLAY TO HELP KEEP THE DESERT HEAT AT BAY! MUST PROVIDE YOUR OWN TOWELS<br />\nTHAT CAN BE CUSTOMIZED WITH YOUR COMPANY LOGO AND INFORMATION.<br />\n<br />\n<strong><span style="color:#800080\;">SPECIAL HOLE SPONSOR: $200 EACH (ONLY 3 LEFT)</span></strong><br />\n<span style="color:#800080\;">(2 LONG DRIVE + 2 CLOSEST TO THE PIN = 4 TOTAL)</span><br />\n&bull\; ONE TEE BOX LOGOED SIGN<br />\n&bull\; RECOGNITION AS SPECIAL HOLE<br />\nSPONSORSHIP AT THE LUNCHEON<br />\nEVENT AND MAY PRESENT THE AWARD<br />\n<br />\n<span style="color:#008000\;"><strong>HOLE SPONSOR: $100 EACH</strong></span><br />\n&bull\; ONE TEE BOX LOGOED SIGN<br />\n(SPONSOR MUST PROVIDE<br />\nHIGH RESOLUTION<br />\nCOMPANY LOGO IMAGE)<br />\n<br />\n<span style="color:#800080\;"><strong>GOLF OPTION: $125 PER PLAYER</strong></span><br />\n&bull\; INCLUDES ROUND OF GOLF\,<br />\nCART RENTAL\, RANGE BALLS\,<br />\nON-COURSE SNACK\, HOT<br />\nBBQ LUNCH\, 1 DRINK TICKET\,<br />\nCOMMEMORATIVE PHOTO\,<br />\nCOOL PREMIUM TEE PRIZE<br />\n<br />\n<span style="color:#008000\;"><strong>LUNCH-ONLY OPTION</strong></span><br />\n&bull\; WILL OCCUR APPROXIMATELY<br />\n1:00PM - 2:30PM IMMEDIATELY<br />\nAFTER THE GOLF ROUND<br />\n<strong>&bull\; $35&nbsp\;FOR CHAMBER MEMBERS<br />\n&bull\; $40&nbsp\;FOR NON-CHAMBERS<br />\n<br />\n<span style="color:#FF8C00\;"><span id="docs-internal-guid-32cf96f9-7fff-ae8c-a7cf-bdd4aa846ba9"><span style="font-size: 10.5pt\; font-family: Arial\; background-color: transparent\; font-variant-numeric: normal\; font-variant-east-asian: normal\; vertical-align: baseline\; white-space: pre-wrap\;">GRAND RAFFLE TRAVEL PRIZE - $50</span></span></span></strong><br />\nChance to win a Premium 7-Night Cruise for two to your choice of Caribbean or Australia&nbsp\;</p>\n\n<p dir="ltr" style="line-height:1.38\;margin-top:0pt\;margin-bottom:0pt\;"><strong><span style="color:#FF0000\;"><span id="docs-internal-guid-32cf96f9-7fff-ae8c-a7cf-bdd4aa846ba9"><span style="font-size: 10.5pt\; font-family: Arial\; background-color: transparent\; font-variant-numeric: normal\; font-variant-east-asian: normal\; vertical-align: baseline\; white-space: pre-wrap\;">VIP PASS - $40</span></span></span></strong></p>\n\n<p dir="ltr" style="line-height:1.38\;margin-top:0pt\;margin-bottom:0pt\;"><span id="docs-internal-guid-32cf96f9-7fff-ae8c-a7cf-bdd4aa846ba9"><span style="font-size: 10.5pt\; font-family: Arial\; color: rgb(0\, 0\, 0)\; background-color: transparent\; font-variant-numeric: normal\; font-variant-east-asian: normal\; vertical-align: baseline\; white-space: pre-wrap\;">&bull\; 5 Raffle prize tickets&nbsp\;&nbsp\;&nbsp\;&nbsp\;&nbsp\;&nbsp\;&nbsp\;&nbsp\;&nbsp\;&nbsp\;&nbsp\;&nbsp\;&nbsp\;&nbsp\;&nbsp\;&nbsp\;&nbsp\;&nbsp\;&nbsp\;&nbsp\;&nbsp\;&nbsp\;&nbsp\;&nbsp\;&nbsp\;&nbsp\;&nbsp\;&nbsp\;&nbsp\;&nbsp\;&nbsp\;&nbsp\;&nbsp\;&nbsp\;&nbsp\;&nbsp\;&nbsp\;&nbsp\;&nbsp\;&nbsp\;&nbsp\;&nbsp\;&nbsp\;&nbsp\;&nbsp\;&nbsp\;&nbsp\;&nbsp\;&nbsp\;</span></span></p>\n\n<p dir="ltr" style="line-height:1.38\;margin-top:0pt\;margin-bottom:0pt\;"><span id="docs-internal-guid-32cf96f9-7fff-ae8c-a7cf-bdd4aa846ba9"><span style="font-size: 10.5pt\; font-family: Arial\; color: rgb(0\, 0\, 0)\; background-color: transparent\; font-variant-numeric: normal\; font-variant-east-asian: normal\; vertical-align: baseline\; white-space: pre-wrap\;">&bull\; 1 Exclusive Ticket to win a foursome of golf at Stonecreek Golf Club</span></span></p>\n\n<p dir="ltr" style="line-height:1.38\;margin-top:0pt\;margin-bottom:0pt\;"><span id="docs-internal-guid-32cf96f9-7fff-ae8c-a7cf-bdd4aa846ba9"><span style="font-size: 10.5pt\; font-family: Arial\; color: rgb(0\, 0\, 0)\; background-color: transparent\; font-variant-numeric: normal\; font-variant-east-asian: normal\; vertical-align: baseline\; white-space: pre-wrap\;">&bull\; 2 Mulligans</span></span></p>\n\n<p dir="ltr" style="line-height:1.38\;margin-top:0pt\;margin-bottom:0pt\;"><span id="docs-internal-guid-32cf96f9-7fff-ae8c-a7cf-bdd4aa846ba9"><span style="font-size: 10.5pt\; font-family: Arial\; color: rgb(0\, 0\, 0)\; background-color: transparent\; font-variant-numeric: normal\; font-variant-east-asian: normal\; vertical-align: baseline\; white-space: pre-wrap\;">&bull\; Your passes to play in the on-course contests of:</span></span></p>\n\n<ul style="margin-top: 0px\; margin-bottom: 0px\; padding-inline-start: 48px\;">\n	<li style="line-height: 1.38\; margin-top: 0pt\; margin-bottom: 0pt\;"><span><span style="font-size: 10.5pt\; background-color: transparent\; font-variant-numeric: normal\; font-variant-east-asian: normal\; vertical-align: baseline\; white-space: pre-wrap\;">Golf Ball Bazooka Launcher</span></span></li>\n	<li style="line-height: 1.38\; margin-top: 0pt\; margin-bottom: 0pt\;"><span><span style="font-size: 10.5pt\; background-color: transparent\; font-variant-numeric: normal\; font-variant-east-asian: normal\; vertical-align: baseline\; white-space: pre-wrap\;"><span id="docs-internal-guid-32cf96f9-7fff-ae8c-a7cf-bdd4aa846ba9"><span style="font-size: 10.5pt\; background-color: transparent\; font-variant-numeric: normal\; font-variant-east-asian: normal\; vertical-align: baseline\; white-space: pre-wrap\;">Drone Drive Drop</span></span></span></span></li>\n	<li style="line-height: 1.38\; margin-top: 0pt\; margin-bottom: 0pt\;"><span><span style="font-size: 10.5pt\; background-color: transparent\; font-variant-numeric: normal\; font-variant-east-asian: normal\; vertical-align: baseline\; white-space: pre-wrap\;"><span><span style="font-size: 10.5pt\; background-color: transparent\; font-variant-numeric: normal\; font-variant-east-asian: normal\; vertical-align: baseline\; white-space: pre-wrap\;"><span id="docs-internal-guid-32cf96f9-7fff-ae8c-a7cf-bdd4aa846ba9"><span style="font-size: 10.5pt\; background-color: transparent\; font-variant-numeric: normal\; font-variant-east-asian: normal\; vertical-align: baseline\; white-space: pre-wrap\;">Wheel of Fortune Hole</span></span></span></span></span></span></li>\n</ul>\n\n<p dir="ltr" role="presentation" style="list-style-type: circle\; font-size: 10.5pt\; font-family: Arial\; color: rgb(0\, 0\, 0)\; background-color: transparent\; font-variant-numeric: normal\; font-variant-east-asian: normal\; vertical-align: baseline\; white-space: pre\;line-height: 1.2\; margin-top: 0pt\; margin-bottom: 12pt\;"><br />\n<span style="color:#0000FF\;"><strong><span id="docs-internal-guid-32cf96f9-7fff-ae8c-a7cf-bdd4aa846ba9"><span style="font-size: 10.5pt\; background-color: transparent\; font-variant-numeric: normal\; font-variant-east-asian: normal\; vertical-align: baseline\; white-space: pre-wrap\;">PRIDE PASS - $90</span></span></strong></span><br />\n&bull\; Both the VIP Pass and the Grand Raffle Travel Prize in one Super Deal!</p>\n
LOCATION:Stonecreek Golf Club 4435 N Paradise Village Pkwy S Phoenix\, AZ 85032
UID:e.2837.760
SEQUENCE:3
DTSTAMP:20260423T225844Z
URL:https://business.equalitychamber.org/events/details/7th-annual-chamber-rainbow-classic-760
END:VEVENT

END:VCALENDAR
