BEGIN:VCALENDAR
VERSION:2.0
PRODID:-//ChamberMaster//Event Calendar 2.0//EN
METHOD:PUBLISH
X-PUBLISHED-TTL:P3D
REFRESH-INTERVAL:P3D
CALSCALE:GREGORIAN
BEGIN:VEVENT
DTSTART:20210402T190000Z
DTEND:20210402T200000Z
X-MICROSOFT-CDO-ALLDAYEVENT:FALSE
SUMMARY:April Virtual Chamber Lunch
DESCRIPTION:Join us online Friday\, April 2nd!
X-ALT-DESC;FMTTYPE=text/html:<em><span style="color:#7E7E7E\;"><span style="font-family:arial\,sans-serif\;"><span style="font-size:13.5pt\;">Join us online Friday\, April 2nd!</span></span></span></em>
LOCATION:Online via Zoom Meeting This event is FREE for members! All ACTIVE MEMBERS will receive a link Friday morning.
UID:e.2837.231
SEQUENCE:3
DTSTAMP:20260425T110514Z
URL:https://business.equalitychamber.org/events/details/april-virtual-chamber-lunch-231
END:VEVENT

END:VCALENDAR
