BEGIN:VCALENDAR
VERSION:2.0
PRODID:-//ChamberMaster//Event Calendar 2.0//EN
METHOD:PUBLISH
X-PUBLISHED-TTL:P3D
REFRESH-INTERVAL:P3D
CALSCALE:GREGORIAN
BEGIN:VEVENT
DTSTART;VALUE=DATE:20200807
DTEND;VALUE=DATE:20200808
TRANSP:TRANSPARENT
X-MICROSOFT-CDO-ALLDAYEVENT:TRUE
SUMMARY:August Virtual Chamber Lunch
DESCRIPTION:Join us online Friday\, August 7th!
X-ALT-DESC;FMTTYPE=text/html:<em><span style="color:#7E7E7E\;"><span style="font-family:arial\,sans-serif\;"><span style="font-size:13.5pt\;">Join us online Friday\, August 7th!</span></span></span></em>
LOCATION:Online via Zoom Meeting This event is FREE and for members only! All ACTIVE MEMBERS will receive a link Friday morning.
UID:e.2837.196
SEQUENCE:3
DTSTAMP:20260425T221220Z
URL:https://business.equalitychamber.org/events/details/august-virtual-chamber-lunch-196
END:VEVENT

END:VCALENDAR
