BEGIN:VCALENDAR
VERSION:2.0
PRODID:-//ChamberMaster//Event Calendar 2.0//EN
METHOD:PUBLISH
X-PUBLISHED-TTL:P3D
REFRESH-INTERVAL:P3D
CALSCALE:GREGORIAN
BEGIN:VEVENT
DTSTART:20230325T170000Z
DTEND:20230325T230000Z
X-MICROSOFT-CDO-ALLDAYEVENT:FALSE
SUMMARY:Aunt Rita's AIDS Walk Festival and 5K
DESCRIPTION:Aunt Rita's AIDS Walk Arizona is the largest gathering in Arizona to support people living with HIV and raise community awareness. This year's walk is presented by CAN Community Health!\n\n \n\nOur 2023 theme is BRAND NEW DAY. \n\n \n\nJoin Aunt Rita's Foundation for a brand new version of the walk on Saturday\, March 25th at 10:00am for the AIDS Walk Arizona Festival & 5k Run at Tempe Beach Park! \n\n \n\nAll proceeds from AIDS Walk fundraising benefit our 14 community partner agencies in Arizona that provide critical HIV services including testing\, treatment\, behavioral health\, housing\, prevention\, and more.
X-ALT-DESC;FMTTYPE=text/html:<p style="margin: 0px\; padding: 0px\; box-sizing: inherit\; -webkit-font-smoothing: antialiased\; color: rgb(255\, 255\, 255)\; font-family: mulish\, Arial\, Helvetica\, sans-serif\; text-align: center\; font-size: 22px\;"><span style="margin: 0px\; padding: 0px\; box-sizing: inherit\; -webkit-font-smoothing: antialiased\; text-decoration: inherit\; color: rgb(0\, 0\, 0)\;"><span style="margin: 0px\; padding: 0px\; box-sizing: inherit\; -webkit-font-smoothing: antialiased\; text-decoration: inherit\; font-size: 24px\;">Aunt Rita&#39\;s AIDS Walk Arizona is the largest gathering in Arizona to support people living with HIV and raise community awareness. This year&#39\;s walk is presented by CAN Community Health!</span></span></p>\n\n<p style="margin: 0px\; padding: 0px\; box-sizing: inherit\; -webkit-font-smoothing: antialiased\; color: rgb(255\, 255\, 255)\; font-family: mulish\, Arial\, Helvetica\, sans-serif\; text-align: center\; font-size: 22px\;">&nbsp\;</p>\n\n<p style="margin: 0px\; padding: 0px\; box-sizing: inherit\; -webkit-font-smoothing: antialiased\; color: rgb(255\, 255\, 255)\; font-family: mulish\, Arial\, Helvetica\, sans-serif\; text-align: center\; font-size: 22px\;"><span style="margin: 0px\; padding: 0px\; box-sizing: inherit\; -webkit-font-smoothing: antialiased\; text-decoration: inherit\; font-size: 30px\;"><span style="margin: 0px\; padding: 0px\; box-sizing: inherit\; -webkit-font-smoothing: antialiased\; text-decoration: inherit\; color: rgb(0\, 0\, 0)\;">Our 2023 theme is&nbsp\;<strong style="margin: 0px\; padding: 0px\; box-sizing: inherit\; -webkit-font-smoothing: antialiased\;">BRAND NEW DAY</strong></span><span style="margin: 0px\; padding: 0px\; box-sizing: inherit\; -webkit-font-smoothing: antialiased\; text-decoration: inherit\; color: rgb(0\, 0\, 0)\;"><strong style="margin: 0px\; padding: 0px\; box-sizing: inherit\; -webkit-font-smoothing: antialiased\;">.&nbsp\;</strong></span></span></p>\n\n<p style="margin: 0px\; padding: 0px\; box-sizing: inherit\; -webkit-font-smoothing: antialiased\; color: rgb(255\, 255\, 255)\; font-family: mulish\, Arial\, Helvetica\, sans-serif\; text-align: center\; font-size: 22px\;">&nbsp\;</p>\n\n<p style="margin: 0px\; padding: 0px\; box-sizing: inherit\; -webkit-font-smoothing: antialiased\; color: rgb(255\, 255\, 255)\; font-family: mulish\, Arial\, Helvetica\, sans-serif\; text-align: center\; font-size: 22px\;"><span style="margin: 0px\; padding: 0px\; box-sizing: inherit\; -webkit-font-smoothing: antialiased\; text-decoration: inherit\; font-size: 24px\;"><span style="margin: 0px\; padding: 0px\; box-sizing: inherit\; -webkit-font-smoothing: antialiased\; text-decoration: inherit\; color: rgb(0\, 0\, 0)\;">Join Aunt Rita&#39\;s Foundation for a brand new version of the walk on Saturday\, March 25th at 10:00am for the AIDS Walk Arizona Festival &amp\; 5k Run at Tempe Beach Park!&nbsp\;</span></span></p>\n\n<p style="margin: 0px\; padding: 0px\; box-sizing: inherit\; -webkit-font-smoothing: antialiased\; color: rgb(255\, 255\, 255)\; font-family: mulish\, Arial\, Helvetica\, sans-serif\; text-align: center\; font-size: 22px\;">&nbsp\;</p>\n\n<p style="margin: 0px\; padding: 0px\; box-sizing: inherit\; -webkit-font-smoothing: antialiased\; color: rgb(255\, 255\, 255)\; font-family: mulish\, Arial\, Helvetica\, sans-serif\; text-align: center\; font-size: 22px\;"><span style="margin: 0px\; padding: 0px\; box-sizing: inherit\; -webkit-font-smoothing: antialiased\; text-decoration: inherit\; font-size: 24px\;"><span style="margin: 0px\; padding: 0px\; box-sizing: inherit\; -webkit-font-smoothing: antialiased\; text-decoration: inherit\; color: rgb(0\, 0\, 0)\;"><span style="margin: 0px\; padding: 0px\; box-sizing: inherit\; -webkit-font-smoothing: antialiased\; text-decoration: inherit\; background-color: transparent\;">All proceeds from AIDS Walk fundraising benefit our 14 community partner agencies in Ari<span style="margin: 0px\; padding: 0px\; box-sizing: inherit\; -webkit-font-smoothing: antialiased\; text-decoration: inherit\;">z</span>ona that provide critical HIV services including testing\, treatment\, behavioral health\,&nbsp\;<span style="margin: 0px\; padding: 0px\; box-sizing: inherit\; -webkit-font-smoothing: antialiased\; text-decoration: inherit\;"><span style="margin: 0px\; padding: 0px\; box-sizing: inherit\; -webkit-font-smoothing: antialiased\; text-decoration: inherit\;"><span style="margin: 0px\; padding: 0px\; box-sizing: inherit\; -webkit-font-smoothing: antialiased\; text-decoration: inherit\; background-color: transparent\;">housing\, prevention\, and more.&nbsp\;</span></span></span></span></span></span></p>\n
LOCATION:Tempe Beach Park
UID:e.2837.758
SEQUENCE:3
DTSTAMP:20260424T001942Z
URL:https://business.equalitychamber.org/events/details/aunt-rita-s-aids-walk-festival-and-5k-758
END:VEVENT

END:VCALENDAR
