BEGIN:VCALENDAR
VERSION:2.0
PRODID:-//ChamberMaster//Event Calendar 2.0//EN
METHOD:PUBLISH
X-PUBLISHED-TTL:P3D
REFRESH-INTERVAL:P3D
CALSCALE:GREGORIAN
BEGIN:VEVENT
DTSTART:20260530T010000Z
DTEND:20260530T040000Z
X-MICROSOFT-CDO-ALLDAYEVENT:FALSE
SUMMARY:Aunt Rita's Bake Sale Bingo!
DESCRIPTION:Aunt Rita's Foundation Bake Sale Bingo: An 80's Throwback Fundraiser\n\nGet ready to celebrate Aunt Rita's roots with a brand-new twist on a beloved tradition! Bake Sale Bingohonors our grassroots beginnings when homemade treats and community compassion helped spark a movement in 1988 while launching an exciting new era of fundraising and fun.\n\nHosted by drag icon Rita Bane\, this totally 80's-themed evening invites guests to dress in their best retro looks and enjoy a lively night of bingo\, baked goods\, and unforgettable entertainment. Indulge in delicious treats from local bakers\, bid on custom cake auctions\, and compete for fun bingo prizes\, all while enjoying special performances from Rita Bane.\n\nMore than just a night out\, Bake Sale Bingo marks the official kickoff of Aunt Rita's "Summer of Prevention"\, an 88-day campaign raising critical funds to support vital programs across Arizona. Proceeds help sustain HIV/STI testing\, maintain the HIVAZ.org resource hub\, connect individuals to lifesaving care\, and power programs like Experienced Escapades for people aging with HIV and our HIV Positive Youth Retreat.\n\nEvent Highlights:\n\n\n	\n	?? Hosted by Drag Icon Rita Bane\n	\n	\n	?? Bingo games and prizes\n	\n	\n	?? Baked goods for sale and custom cake auctions\n	\n	\n	?? Special performance by Rita Bane\n	\n	\n	?? Mission moments highlighting the impact of your support\n	\n	??80's outfit best dressed contest\n	\n	?? Cash bar with all proceeds benefiting Aunt Rita's Foundation\n	\n\n\nAdmission:\n\n$25 entry (includes one bingo card)\n\nAdditional bingo cards available for $10 each\n\nDress in your best 80's-inspired look and join us for a night of nostalgia\, community\, and impact as we celebrate where we started and raise critical support for where we're going.
X-ALT-DESC;FMTTYPE=text/html:<p><strong>Aunt Rita&#39\;s Foundation&nbsp\;Bake Sale Bingo: An 80&rsquo\;s Throwback Fundraiser</strong></p>\n\n<p>Get ready to celebrate Aunt Rita&rsquo\;s roots with a brand-new twist on a beloved tradition!&nbsp\;Bake Sale Bingohonors our grassroots beginnings&mdash\;when homemade treats and community compassion helped spark a movement in 1988&mdash\;while launching an exciting new era of fundraising and fun.</p>\n\n<p>Hosted by drag icon&nbsp\;Rita Bane\, this&nbsp\;totally 80&rsquo\;s-themed evening&nbsp\;invites guests to dress in their best retro looks and enjoy a lively night of bingo\, baked goods\, and unforgettable entertainment. Indulge in delicious treats from local bakers\, bid on&nbsp\;custom cake auctions\, and compete for fun&nbsp\;bingo prizes\, all while enjoying special performances from Rita Bane.</p>\n\n<p>More than just a night out\, Bake Sale Bingo marks the official kickoff of Aunt Rita&rsquo\;s&nbsp\;&ldquo\;Summer of Prevention&rdquo\;\, an 88-day campaign&nbsp\;raising critical funds to support vital programs across Arizona. Proceeds help sustain HIV/STI testing\, maintain the&nbsp\;HIVAZ.org&nbsp\;resource hub\, connect individuals to lifesaving care\, and power programs like&nbsp\;Experienced Escapades for people aging with HIV&nbsp\;and our&nbsp\;HIV Positive Youth Retreat.</p>\n\n<p><strong>Event Highlights:</strong></p>\n\n<ul>\n	<li>\n	<p>?? Hosted by Drag Icon Rita Bane</p>\n	</li>\n	<li>\n	<p>?? Bingo games and prizes</p>\n	</li>\n	<li>\n	<p>?? Baked goods for sale and custom cake auctions</p>\n	</li>\n	<li>\n	<p>?? Special performance by Rita Bane</p>\n	</li>\n	<li>\n	<p>?? Mission moments highlighting the impact of your support</p>\n	</li>\n	<li>??80&#39\;s outfit best dressed contest</li>\n	<li>\n	<p>?? Cash bar with all proceeds benefiting Aunt Rita&rsquo\;s Foundation</p>\n	</li>\n</ul>\n\n<p><strong>Admission:</strong><br />\n$25 entry (includes one bingo card)<br />\nAdditional bingo cards available for $10 each</p>\n\n<p>Dress in your&nbsp\;best 80&rsquo\;s-inspired look&nbsp\;and join us for a night of nostalgia\, community\, and impact as we celebrate where we started&mdash\;and raise critical support for where we&rsquo\;re going.</p>\n
LOCATION:Prince of Peace Lutheran Church 3641 N 56th St. Phoenix\, AZ 85018
UID:e.2837.5436
SEQUENCE:3
DTSTAMP:20260423T163117Z
URL:https://business.equalitychamber.org/events/details/aunt-rita-s-bake-sale-bingo-5436
END:VEVENT

END:VCALENDAR
