BEGIN:VCALENDAR
VERSION:2.0
PRODID:-//ChamberMaster//Event Calendar 2.0//EN
METHOD:PUBLISH
X-PUBLISHED-TTL:P3D
REFRESH-INTERVAL:P3D
CALSCALE:GREGORIAN
BEGIN:VEVENT
DTSTART:20240615T210000Z
DTEND:20240615T230000Z
X-MICROSOFT-CDO-ALLDAYEVENT:FALSE
SUMMARY:Bingo
DESCRIPTION:Join us for Bingo (FREE)! Have fun and win some prizes!
X-ALT-DESC;FMTTYPE=text/html:<div class="page" style="caret-color: rgb(0\, 0\, 0)\; color: rgb(0\, 0\, 0)\;" title="Page 1">\n<div class="section">\n<div class="layoutArea">\n<div class="column">\n<p><span style="font-size: 12pt\; font-family: BreeSerif\;">Join us for Bingo (FREE)! Have fun and win some prizes!</span></p>\n</div>\n</div>\n</div>\n</div>\n
LOCATION:GenuWine Arizona 888 N 1st Avenue Unit 101 Phoenix\, AZ 85003
UID:e.2837.1830
SEQUENCE:3
DTSTAMP:20260423T093512Z
URL:https://business.equalitychamber.org/events/details/bingo-1830
END:VEVENT

END:VCALENDAR
