BEGIN:VCALENDAR
VERSION:2.0
PRODID:-//ChamberMaster//Event Calendar 2.0//EN
METHOD:PUBLISH
X-PUBLISHED-TTL:P3D
REFRESH-INTERVAL:P3D
CALSCALE:GREGORIAN
BEGIN:VEVENT
DTSTART:20231201T163000Z
DTEND:20231201T173000Z
X-MICROSOFT-CDO-ALLDAYEVENT:FALSE
SUMMARY:CAN Community Ribbon Cutting
DESCRIPTION:On December 1st\, 2023\, in celebration of World AIDS Day\, we will be welcoming community partners and members at our new clinic\, conveniently located at:  4244 N 19th Ave Phoenix\, AZ 85015 from 9:30   10:30 AM. We will provide light breakfast and refreshments. \n\n \n\nOur new clinic's address is easily accessible\, ensuring that our services remain within reach for those who need them. We are confident that this relocation will allow us to serve our community even better.  \n\nIt would be our pleasure to give you a tour of our updated facilities and provide you with an in-depth look at the services we offer.
X-ALT-DESC;FMTTYPE=text/html:<p class="paragraph" style="margin:0in\;vertical-align:baseline"><span class="normaltextrun"><span style="color:black">On December 1</span></span><span class="normaltextrun"><sup><span style="font-size:8.5pt\;color:black">st</span></sup><span style="color:black">\, 2023\, in celebration of World AIDS Day\, we will be welcoming community partners and members at our new clinic\, conveniently located at:&nbsp\;</span></span><span class="eop"><span style="color:black">&nbsp\;</span></span><span class="normaltextrun"><span style="color:black">4244 N 19th Ave Phoenix\, AZ 85015&nbsp\;</span></span><span class="eop"><span style="color:black">from 9:30 &ndash\; 10:30 AM. We will provide light breakfast and refreshments. </span><o:p></o:p></span></p>\n\n<p class="paragraph" style="margin:0in\;vertical-align:baseline"><o:p>&nbsp\;</o:p></p>\n\n<p class="paragraph" style="margin:0in\;vertical-align:baseline\;user-select: text\;\n-webkit-user-drag: none\;-webkit-tap-highlight-color: transparent\;overflow-wrap: break-word\;\nwhite-space:pre-wrap\;font-kerning: none"><span class="normaltextrun"><span style="color:black">Our new clinic&#39\;s address is easily accessible\, ensuring that our services remain within reach for those who need them. We are confident that this relocation will allow us to serve our community even better.&nbsp\;</span></span><span class="eop"><span style="color:black">&nbsp\;</span></span><span style="font-size:\n9.0pt\;font-family:&quot\;Segoe UI&quot\;\,sans-serif"><o:p></o:p></span></p>\n\n<p class="paragraph" style="margin:0in\;vertical-align:baseline\;user-select: text\;\n-webkit-user-drag: none\;-webkit-tap-highlight-color: transparent\;overflow-wrap: break-word\;\nwhite-space:pre-wrap\;font-kerning: none"><span class="normaltextrun"><span style="color:black">It would be our pleasure to give you a tour of our updated facilities and provide you with an in-depth look at the services we offer.&nbsp\;<o:p></o:p></span></span></p>\n
LOCATION:4244 N 19th Ave Phoenix\, AZ 85015
UID:e.2837.1017
SEQUENCE:3
DTSTAMP:20260424T183322Z
URL:https://business.equalitychamber.org/events/details/can-community-ribbon-cutting-1017
END:VEVENT

END:VCALENDAR
