BEGIN:VCALENDAR
VERSION:2.0
PRODID:-//ChamberMaster//Event Calendar 2.0//EN
METHOD:PUBLISH
X-PUBLISHED-TTL:P3D
REFRESH-INTERVAL:P3D
CALSCALE:GREGORIAN
BEGIN:VEVENT
DTSTART:20230505T180000Z
DTEND:20230505T200000Z
X-MICROSOFT-CDO-ALLDAYEVENT:FALSE
SUMMARY:Chamber Luncheon
DESCRIPTION:Whether you are a New Member\, Current Member\, or Future Member of the chamber\, come and learn what we are all about. This will be a great opportunity to reconnect with other business professionals. All registrations must be made in advance\, so don't miss your chance to register now! We look forward to seeing you there.
X-ALT-DESC;FMTTYPE=text/html:<span style="color:#323232\;"><span style="font-family:georgia\,serif\;"><span style="font-size:12.0pt\;">Whether you are a New Member\, Current Member\, or Future Member of the chamber\, come and learn what we are all about. This will be a great opportunity to reconnect with other business professionals. All registrations must be made in advance\, so don&#39\;t miss your chance to register now! We look forward to seeing you there.</span></span></span><br />\n<br />\n&nbsp\;
LOCATION:Stacy's on Melrose 4343 N 7th Ave Phoenix\, AZ 85013
UID:e.2837.762
SEQUENCE:3
DTSTAMP:20260423T211938Z
URL:https://business.equalitychamber.org/events/details/chamber-luncheon-762
END:VEVENT

END:VCALENDAR
