BEGIN:VCALENDAR
VERSION:2.0
PRODID:-//ChamberMaster//Event Calendar 2.0//EN
METHOD:PUBLISH
X-PUBLISHED-TTL:P3D
REFRESH-INTERVAL:P3D
CALSCALE:GREGORIAN
BEGIN:VEVENT
DTSTART:20230602T180000Z
DTEND:20230602T200000Z
X-MICROSOFT-CDO-ALLDAYEVENT:FALSE
SUMMARY:Chamber Luncheon
DESCRIPTION:A special luncheon honoring our local business leaders and community trailblazers from 2022.
X-ALT-DESC;FMTTYPE=text/html:<span style="color:#323232\;"><span style="font-family:georgia\,serif\;"><span style="font-size:12.0pt\;">A special luncheon honoring our local business leaders and community trailblazers from 2022.</span></span></span><br />\n<br />\n&nbsp\;
LOCATION:Found:RE 1100 N Central Ave Phoenix\, AZ 85004
UID:e.2837.764
SEQUENCE:3
DTSTAMP:20260423T194708Z
URL:https://business.equalitychamber.org/events/details/chamber-luncheon-764
END:VEVENT

END:VCALENDAR
