BEGIN:VCALENDAR
VERSION:2.0
PRODID:-//ChamberMaster//Event Calendar 2.0//EN
METHOD:PUBLISH
X-PUBLISHED-TTL:P3D
REFRESH-INTERVAL:P3D
CALSCALE:GREGORIAN
BEGIN:VEVENT
DTSTART:20230901T180000Z
DTEND:20230901T200000Z
X-MICROSOFT-CDO-ALLDAYEVENT:FALSE
SUMMARY:Chamber Luncheon
DESCRIPTION:Come hear from our partners Local First and Phoenix Business Alliance about the exciting ways we are leveraging our partnership for our members. Make sure you bring your laptop because we will then take some time to help you make the most of your GPECC directory listing.\n\n\n\nWhether you are a New Member\, Current Member\, or Future Member of the chamber\, come and learn what we are all about. This will be a great opportunity to reconnect with other business professionals. All registrations must be made in advance\, so don't miss your chance to register now! We look forward to seeing you there.
X-ALT-DESC;FMTTYPE=text/html:<span style="color:#323232\;"><span style="font-family:georgia\,serif\;"><span style="font-size:12.0pt\;">Come hear from our partners Local First and Phoenix Business Alliance about the exciting ways we are leveraging our partnership for our members. Make sure you bring your laptop because we will then take some time to help you make the most of your GPECC directory listing.<br />\n<br />\nWhether you are a New Member\, Current Member\, or Future Member of the chamber\, come and learn what we are all about. This will be a great opportunity to reconnect with other business professionals. All registrations must be made in advance\, so don&#39\;t miss your chance to register now! We look forward to seeing you there.</span></span></span><br />\n<br />\n&nbsp\;
LOCATION:The Gladly 2201 E Camelback Rd Phoenix\, AZ 85016
UID:e.2837.774
SEQUENCE:3
DTSTAMP:20260423T151250Z
URL:https://business.equalitychamber.org/events/details/chamber-luncheon-774
END:VEVENT

END:VCALENDAR
