BEGIN:VCALENDAR
VERSION:2.0
PRODID:-//ChamberMaster//Event Calendar 2.0//EN
METHOD:PUBLISH
X-PUBLISHED-TTL:P3D
REFRESH-INTERVAL:P3D
CALSCALE:GREGORIAN
BEGIN:VEVENT
DTSTART:20231103T180000Z
DTEND:20231103T200000Z
X-MICROSOFT-CDO-ALLDAYEVENT:FALSE
SUMMARY:Chamber Luncheon
DESCRIPTION:Speaker: Yassamin Ansari currently serves as the Vice Mayor of Phoenix. She is the youngest woman ever elected in Phoenix City Council history and the first Iranian American elected to public office in the state of Arizona. Vice Mayor Ansari represents one of the most diverse districts in Phoenix. \n\n\n\nUpdate: Unfortunately\, the Congressman is scheduled to stay in DC due to a shift in the voting schedule as a result of the speaker vote delays. He sends his deepest regrets that he will not be able to make the luncheon.
X-ALT-DESC;FMTTYPE=text/html:<span style="font-family:calibri\,sans-serif\;">Speaker:&nbsp\;</span><span style="color: rgb(0\, 0\, 0)\; font-family: &quot\;Open Sans&quot\;\, sans-serif\;">Yassamin Ansari currently serves as the Vice Mayor of Phoenix. She is the youngest woman ever elected in Phoenix City Council history and the first Iranian American elected to public office in the state of Arizona. Vice Mayor Ansari represents one of the most diverse districts in Phoenix.&nbsp\;</span><br />\n<br />\n<span style="font-family:calibri\,sans-serif\;"><span style="font-size:11.0pt\;">Update: Unfortunately\, the Congressman is scheduled to stay in DC due to a shift in the voting schedule as a result of the speaker vote delays. He sends his deepest regrets that he will not be able to make the luncheon.&nbsp\;</span></span>
LOCATION:The Cambria 222 E Portland St Phoenix\, AZ 85004
UID:e.2837.987
SEQUENCE:3
DTSTAMP:20260424T104446Z
URL:https://business.equalitychamber.org/events/details/chamber-luncheon-987
END:VEVENT

END:VCALENDAR
