BEGIN:VCALENDAR
VERSION:2.0
PRODID:-//ChamberMaster//Event Calendar 2.0//EN
METHOD:PUBLISH
X-PUBLISHED-TTL:P3D
REFRESH-INTERVAL:P3D
CALSCALE:GREGORIAN
BEGIN:VEVENT
DTSTART:20220107T180000Z
DTEND:20220107T200000Z
X-MICROSOFT-CDO-ALLDAYEVENT:FALSE
SUMMARY:Chamber Luncheon January 2022
DESCRIPTION:Whether you are a New Member\, Current Member\, or Future Member of the chamber\, come and learn what we are all about. This will be a great opportunity to reconnect with other business professionals. All registrations must be made in advance\, so don't miss your chance to register now! We look forward to seeing you there.\n\n\n\nThis month we will hear from Angela Hughey of One Community and Michael Soto of Equality Arizona. They are co-founders of the Equality and Fairness for All Americans coalition. The Coalition aims to end the partisan gridlock that has stalled equality efforts in Congress. The Coalition's goal is to gain bipartisan support for federal legislation that can unite all Americans around our nation's core values of freedom\, fairness\, and opportunity to make lasting and impactful change. The nationwide coalition is composed of bipartisan and diverse stakeholders from the LGBTQ\, faith and business communities.
X-ALT-DESC;FMTTYPE=text/html:<span style="color:#323232\;"><span style="font-family:georgia\,serif\;"><span style="font-size:12.0pt\;">Whether you are a New Member\, Current Member\, or Future Member of the chamber\, come and learn what we are all about. This will be a great opportunity to reconnect with other business professionals. All registrations must be made in advance\, so don&#39\;t miss your chance to register now! We look forward to seeing you there.</span></span></span><br />\n<br />\n<span style="color:#1B1B1B\;"><span style="font-family:georgia\,serif\;"><span style="font-size:12.0pt\;">This month we will hear from Angela Hughey of One Community and Michael Soto of Equality Arizona. They are</span></span></span><span style="color:black\;"><span style="font-family:georgia\,serif\;"><span style="font-size:12.0pt\;"> co-founders of the <strong>Equality and Fairness for All Americans coalition</strong>. </span></span></span><span style="color:#1A1A1A\;"><span style="font-family:georgia\,serif\;"><span style="font-size:12.0pt\;">The Coalition aims to end the partisan gridlock that has stalled equality efforts in Congress. The Coalition&rsquo\;s goal is to gain bipartisan support for federal legislation that can unite all Americans around our nation&rsquo\;s core values of freedom\, fairness\, and opportunity to make lasting and impactful change.&nbsp\;The nationwide coalition is composed of bipartisan and diverse stakeholders from the LGBTQ\, faith and business communities.</span></span></span><br />\n<br />\n&nbsp\;
LOCATION:The Gladly 2201 E Camelback Rd Phoenix\, AZ 85016
UID:e.2837.262
SEQUENCE:3
DTSTAMP:20260424T212943Z
URL:https://business.equalitychamber.org/events/details/chamber-luncheon-january-2022-262
END:VEVENT

END:VCALENDAR
