BEGIN:VCALENDAR
VERSION:2.0
PRODID:-//ChamberMaster//Event Calendar 2.0//EN
METHOD:PUBLISH
X-PUBLISHED-TTL:P3D
REFRESH-INTERVAL:P3D
CALSCALE:GREGORIAN
BEGIN:VEVENT
DTSTART:20220506T180000Z
DTEND:20220506T200000Z
X-MICROSOFT-CDO-ALLDAYEVENT:FALSE
SUMMARY:Chamber Luncheon May 2022
DESCRIPTION:Gregory McAteer\, Community Relations Manager at All of Us Research Program\, will be one of our featured speakers for May's luncheon. Prior to joining All of Us\, Gregory worked for an algorithm-based biotechnology startup in Arizona to shore up government relations and develop partnerships with local cities and states. While living in California\, Gregory worked for Sutter Health as well as the Governor's office specifically driving mental health legislative priorities and advanced key areas of innovation\, partnership\, policy\, and advocacy. Gregory brings a master's degree in public administration\, along with an undergraduate education in public policy and planning.\n\n \n\n \n\nWhether you are a New Member\, Current Member\, or Future Member of the chamber\, come and learn what we are all about. This will be a great opportunity to reconnect with other business professionals. All registrations must be made in advance\, so don't miss your chance to register now! We look forward to seeing you there.
X-ALT-DESC;FMTTYPE=text/html:<span style="color:#323232\;"><span style="font-family:georgia\,serif\;"><span style="font-size:12.0pt\;">Gregory McAteer\, Community Relations Manager at All of Us Research Program\, will be one of our featured speakers for May&#39\;s luncheon. Prior to joining All of Us\, Gregory worked for an algorithm-based biotechnology startup in Arizona to shore up government relations and develop partnerships with local cities and states. While living in California\, Gregory worked for Sutter Health as well as the Governor&#39\;s office specifically driving mental health legislative priorities and advanced key areas of innovation\, partnership\, policy\, and advocacy. Gregory brings a master&#39\;s degree in public administration\, along with an undergraduate education in public policy and planning.</span></span></span><br />\n&#65279\;<br />\n&nbsp\;<br />\n<span style="color:#323232\;"><span style="font-family:georgia\,serif\;"><span style="font-size:12.0pt\;">Whether you are a New Member\, Current Member\, or Future Member of the chamber\, come and learn what we are all about. This will be a great opportunity to reconnect with other business professiona</span></span></span><span style="color:#1B1B1B\;"><span style="font-family:georgia\,serif\;"><span style="font-size:12.0pt\;">ls. All registrations must be made in advance\, so don&#39\;t miss your chance to register now! We look forward to seeing you there.</span></span></span><br />\n<br />\n&nbsp\;
LOCATION:The Gladly 2201 E Camelback Rd Phoenix\, AZ 85016
UID:e.2837.698
SEQUENCE:3
DTSTAMP:20260424T152342Z
URL:https://business.equalitychamber.org/events/details/chamber-luncheon-may-2022-698
END:VEVENT

END:VCALENDAR
