BEGIN:VCALENDAR
VERSION:2.0
PRODID:-//ChamberMaster//Event Calendar 2.0//EN
METHOD:PUBLISH
X-PUBLISHED-TTL:P3D
REFRESH-INTERVAL:P3D
CALSCALE:GREGORIAN
BEGIN:VEVENT
DTSTART:20230721T003000Z
DTEND:20230721T023000Z
X-MICROSOFT-CDO-ALLDAYEVENT:FALSE
SUMMARY:Chamber NetMixer
DESCRIPTION:Join us for our monthly NetMixer!  Our monthly NetMixers are perfect events for clients\, potential clients\, ERG members\, partners\, and friends to network with other Chamber and community members.  Our NetMixers are free so please RSVP for an accurate count. This month we will be at Charlie's on Central Phoenix. Join us for networking\, amazing tacos and maybe even some dancing.
X-ALT-DESC;FMTTYPE=text/html:Join us for our monthly NetMixer!&nbsp\; Our monthly NetMixers are perfect events for clients\, potential clients\, ERG members\, partners\, and friends to network with other Chamber and community members. &nbsp\;Our NetMixers are free so please RSVP for an accurate count. This month we will be at Charlie&#39\;s on Central Phoenix. Join us for networking\, amazing tacos and maybe even some dancing.&nbsp\;<br />\n&nbsp\;
LOCATION:Charlie's Phoenix 727 W Camelback Rd Phoenix\, AZ 85013
UID:e.2837.770
SEQUENCE:3
DTSTAMP:20260423T182650Z
URL:https://business.equalitychamber.org/events/details/chamber-netmixer-770
END:VEVENT

END:VCALENDAR
