BEGIN:VCALENDAR
VERSION:2.0
PRODID:-//ChamberMaster//Event Calendar 2.0//EN
METHOD:PUBLISH
X-PUBLISHED-TTL:P3D
REFRESH-INTERVAL:P3D
CALSCALE:GREGORIAN
BEGIN:VEVENT
DTSTART:20220422T003000Z
DTEND:20220422T023000Z
X-MICROSOFT-CDO-ALLDAYEVENT:FALSE
SUMMARY:Chamber NetMixer April 2022
DESCRIPTION:Join us for our monthly NetMixer!  Our monthly NetMixers are perfect events for clients\, potential clients\, ERG members\, partners\, and friends to network with other Chamber and community members.  Our NetMixers are free so please RSVP for an accurate count.
X-ALT-DESC;FMTTYPE=text/html:Join us for our monthly NetMixer!&nbsp\; Our monthly NetMixers are perfect events for clients\, potential clients\, ERG members\, partners\, and friends to network with other Chamber and community members. &nbsp\;Our NetMixers are free so please RSVP for an accurate count.<br />\n&nbsp\;
LOCATION:Stacy's on Melrose 4343 N 7th Ave Phoenix\, AZ 85013
UID:e.2837.700
SEQUENCE:3
DTSTAMP:20260424T165305Z
URL:https://business.equalitychamber.org/events/details/chamber-netmixer-april-2022-700
END:VEVENT

END:VCALENDAR
