BEGIN:VCALENDAR
VERSION:2.0
PRODID:-//ChamberMaster//Event Calendar 2.0//EN
METHOD:PUBLISH
X-PUBLISHED-TTL:P3D
REFRESH-INTERVAL:P3D
CALSCALE:GREGORIAN
BEGIN:VEVENT
DTSTART:20220318T003000Z
DTEND:20220318T023000Z
X-MICROSOFT-CDO-ALLDAYEVENT:FALSE
SUMMARY:Chamber NetMixer March 2022
DESCRIPTION:Join us for our monthly NetMixer!  Our monthly NetMixers are perfect events for clients\, potential clients\, ERG members\, partners\, and friends to network with other Chamber and community members.  Our NetMixers are free so please RSVP for an accurate count.
X-ALT-DESC;FMTTYPE=text/html:Join us for our monthly NetMixer!&nbsp\; Our monthly NetMixers are perfect events for clients\, potential clients\, ERG members\, partners\, and friends to network with other Chamber and community members. &nbsp\;Our NetMixers are free so please RSVP for an accurate count.<br />\n&nbsp\;
LOCATION:Boycott Bar 4301 N 7th Ave Phoenix\, AZ 85013 The Lesbian Bar Project
UID:e.2837.270
SEQUENCE:3
DTSTAMP:20260424T183345Z
URL:https://business.equalitychamber.org/events/details/chamber-netmixer-march-2022-270
END:VEVENT

END:VCALENDAR
