BEGIN:VCALENDAR
VERSION:2.0
PRODID:-//ChamberMaster//Event Calendar 2.0//EN
METHOD:PUBLISH
X-PUBLISHED-TTL:P3D
REFRESH-INTERVAL:P3D
CALSCALE:GREGORIAN
BEGIN:VEVENT
DTSTART:20181018T143000Z
DTEND:20181018T160000Z
X-MICROSOFT-CDO-ALLDAYEVENT:FALSE
SUMMARY:Chamber NetMixer October 2018
DESCRIPTION:Join us for our monthly NetMixer at Exposed Studio & Gallery!  Our monthly NetMixers are perfect events for clients\, potential clients\, partners\, and friends to network with other Chamber and community members.  Our NetMixers are free so please RSVP for an accurate count.\n\n\n\nFor October\, our NetMixer will be a morning mixer!
X-ALT-DESC;FMTTYPE=text/html:Join us for our monthly NetMixer at Exposed Studio &amp\; Gallery! &nbsp\;Our monthly NetMixers are perfect events for clients\, potential clients\, partners\, and friends to network with other Chamber and community members. &nbsp\;Our NetMixers are free so please RSVP for an accurate count.<br />\n<br />\nFor October\, our NetMixer will be a morning mixer!
LOCATION:Exposed Studio & Gallery 4225 N 7th Ave Phoenix\, AZ 85013
UID:e.2837.107
SEQUENCE:3
DTSTAMP:20260426T022807Z
URL:https://business.equalitychamber.org/events/details/chamber-netmixer-october-2018-107
END:VEVENT

END:VCALENDAR
