BEGIN:VCALENDAR
VERSION:2.0
PRODID:-//ChamberMaster//Event Calendar 2.0//EN
METHOD:PUBLISH
X-PUBLISHED-TTL:P3D
REFRESH-INTERVAL:P3D
CALSCALE:GREGORIAN
BEGIN:VEVENT
DTSTART:20211022T003000Z
DTEND:20211022T023000Z
X-MICROSOFT-CDO-ALLDAYEVENT:FALSE
SUMMARY:Chamber NetMixer October 2021
DESCRIPTION:Join GPECC and Phoenix Pride and mingle with our community!  Our monthly NetMixers are perfect events for clients\, potential clients\, ERG members\, partners\, and friends to network with other Chamber and community members.  Our NetMixers are free so please RSVP for an accurate count.
X-ALT-DESC;FMTTYPE=text/html:Join GPECC and Phoenix Pride and mingle with our community! &nbsp\;Our monthly NetMixers are perfect events for clients\, potential clients\, ERG members\, partners\, and friends to network with other Chamber and community members. &nbsp\;Our NetMixers are free so please RSVP for an accurate count.<br />\n&nbsp\;
LOCATION:Greenwood Brewery 425 E Roosevelt St. Phoenix\, AZ 85004
UID:e.2837.254
SEQUENCE:3
DTSTAMP:20260425T021249Z
URL:https://business.equalitychamber.org/events/details/chamber-netmixer-october-2021-254
END:VEVENT

END:VCALENDAR
