BEGIN:VCALENDAR
VERSION:2.0
PRODID:-//ChamberMaster//Event Calendar 2.0//EN
METHOD:PUBLISH
X-PUBLISHED-TTL:P3D
REFRESH-INTERVAL:P3D
CALSCALE:GREGORIAN
BEGIN:VEVENT
DTSTART:20220322T010000Z
DTEND:20220322T050000Z
X-MICROSOFT-CDO-ALLDAYEVENT:FALSE
SUMMARY:Comedy & Cocktails
DESCRIPTION:Please join John King\, Michael Weidmann\, Kevin McSweeny\, and supporters for a fundraiser in support of congressman Stanton's re-election.
X-ALT-DESC;FMTTYPE=text/html:Please join John King\, Michael Weidmann\, Kevin McSweeny\, and supporters for a fundraiser in support of congressman Stanton&#39\;s re-election.<br />\n<br />\n&nbsp\;
LOCATION:Charlie's Phoenix 727 W Camelback Rd Phoenix\, AZ 85013
UID:e.2837.703
SEQUENCE:3
DTSTAMP:20260424T183144Z
URL:https://business.equalitychamber.org/events/details/comedy-cocktails-703
END:VEVENT

END:VCALENDAR
