BEGIN:VCALENDAR
VERSION:2.0
PRODID:-//ChamberMaster//Event Calendar 2.0//EN
METHOD:PUBLISH
X-PUBLISHED-TTL:P3D
REFRESH-INTERVAL:P3D
CALSCALE:GREGORIAN
BEGIN:VEVENT
DTSTART:20201015T003000Z
DTEND:20201015T013000Z
X-MICROSOFT-CDO-ALLDAYEVENT:FALSE
SUMMARY:Cross Chamber Speed Networking
DESCRIPTION:During a time when shaking hands and cocktail chatter is not the healthiest option\, we have found a fun way to help you and your company. The best part is the new contacts from around the valley of the sun. It's going to be fun\, exciting\, and interesting as we move forward in our new equitable and safer business community.  This will be a fun collaboration with the Glendale and Local First chambers.
X-ALT-DESC;FMTTYPE=text/html:<span style="font-family:century gothic\,sans-serif\;"><span style="font-size:12.0pt\;">During a time when shaking hands and cocktail chatter is not the healthiest option\, we have found a fun way to help you and your company. The best part is the new contacts from around the valley of the sun. It&rsquo\;s going to be fun\, exciting\, and interesting as we move forward in our new equitable and safer business community.&nbsp\; This will be a fun collaboration with the Glendale and Local First chambers.</span></span>
LOCATION:Virtual
UID:e.2837.207
SEQUENCE:3
DTSTAMP:20260425T192805Z
URL:https://business.equalitychamber.org/events/details/cross-chamber-speed-networking-207
END:VEVENT

END:VCALENDAR
