BEGIN:VCALENDAR
VERSION:2.0
PRODID:-//ChamberMaster//Event Calendar 2.0//EN
METHOD:PUBLISH
X-PUBLISHED-TTL:P3D
REFRESH-INTERVAL:P3D
CALSCALE:GREGORIAN
BEGIN:VEVENT
DTSTART:20210310T003000Z
DTEND:20210310T013000Z
X-MICROSOFT-CDO-ALLDAYEVENT:FALSE
SUMMARY:Cross Chamber Speed Networking
DESCRIPTION:During a time when shaking hands and cocktail chatter is not the healthiest option\, we have found a fun way to help you and your company. The best part is the new contacts from around the valley of the sun. It's going to be fun\, exciting\, and interesting as we move forward in our new equitable and safer business community.  This months cross chamber networking will be with the Glendale\, Wickenburg and Buckeye chambers of commerce.
X-ALT-DESC;FMTTYPE=text/html:<span style="font-family:century gothic\,sans-serif\;"><span style="font-size:12.0pt\;">During a time when shaking hands and cocktail chatter is not the healthiest option\, we have found a fun way to help you and your company. The best part is the new contacts from around the valley of the sun. It&#39\;s going to be fun\, exciting\, and interesting as we move forward in our new equitable and safer business community.&nbsp\; This months cross chamber networking will be with the Glendale\, Wickenburg and Buckeye chambers of commerce.</span></span>
LOCATION:Virtual
UID:e.2837.230
SEQUENCE:3
DTSTAMP:20260425T140545Z
URL:https://business.equalitychamber.org/events/details/cross-chamber-speed-networking-230
END:VEVENT

END:VCALENDAR
