BEGIN:VCALENDAR
VERSION:2.0
PRODID:-//ChamberMaster//Event Calendar 2.0//EN
METHOD:PUBLISH
X-PUBLISHED-TTL:P3D
REFRESH-INTERVAL:P3D
CALSCALE:GREGORIAN
BEGIN:VEVENT
DTSTART:20230429T003000Z
DTEND:20230429T023000Z
X-MICROSOFT-CDO-ALLDAYEVENT:FALSE
SUMMARY:DIVE INTO DIVERSITY
DESCRIPTION:Join us for a VIP Cocktail Reception at the Alibi Rooftop Lounge on top of the Canopy Hotel in Downtown Tempe. This event will include a meet and greet with Olympic athletes and coaches\, and an opportunity to network with local professionals and learn how we can make diving more accessible and inclusive for all.
X-ALT-DESC;FMTTYPE=text/html:<span style="color: rgb(0\, 0\, 0)\; font-family: &quot\;Work Sans&quot\;\; font-size: 24px\; text-align: center\; background-color: rgb(124\, 229\, 246)\;">Join</span><span style="color: rgb(0\, 0\, 0)\; font-family: &quot\;Work Sans&quot\;\; font-size: 24px\; text-align: center\; background-color: rgb(124\, 229\, 246)\;">&nbsp\;</span><span style="color: rgb(0\, 0\, 0)\; font-family: &quot\;Work Sans&quot\;\; font-size: 24px\; text-align: center\; background-color: rgb(124\, 229\, 246)\;">us</span><span style="color: rgb(0\, 0\, 0)\; font-family: &quot\;Work Sans&quot\;\; font-size: 24px\; text-align: center\; background-color: rgb(124\, 229\, 246)\;">&nbsp\;</span><span style="color: rgb(0\, 0\, 0)\; font-family: &quot\;Work Sans&quot\;\; font-size: 24px\; text-align: center\; background-color: rgb(124\, 229\, 246)\;">for</span><span style="color: rgb(0\, 0\, 0)\; font-family: &quot\;Work Sans&quot\;\; font-size: 24px\; text-align: center\; background-color: rgb(124\, 229\, 246)\;">&nbsp\;</span><span style="color: rgb(0\, 0\, 0)\; font-family: &quot\;Work Sans&quot\;\; font-size: 24px\; text-align: center\; background-color: rgb(124\, 229\, 246)\;">a</span><span style="color: rgb(0\, 0\, 0)\; font-family: &quot\;Work Sans&quot\;\; font-size: 24px\; text-align: center\; background-color: rgb(124\, 229\, 246)\;">&nbsp\;</span><span style="color: rgb(0\, 0\, 0)\; font-family: &quot\;Work Sans&quot\;\; font-size: 24px\; text-align: center\; background-color: rgb(124\, 229\, 246)\;">VIP</span><span style="color: rgb(0\, 0\, 0)\; font-family: &quot\;Work Sans&quot\;\; font-size: 24px\; text-align: center\; background-color: rgb(124\, 229\, 246)\;">&nbsp\;</span><span style="color: rgb(0\, 0\, 0)\; font-family: &quot\;Work Sans&quot\;\; font-size: 24px\; text-align: center\; background-color: rgb(124\, 229\, 246)\;">Cocktail</span><span style="color: rgb(0\, 0\, 0)\; font-family: &quot\;Work Sans&quot\;\; font-size: 24px\; text-align: center\; background-color: rgb(124\, 229\, 246)\;">&nbsp\;</span><span style="color: rgb(0\, 0\, 0)\; font-family: &quot\;Work Sans&quot\;\; font-size: 24px\; text-align: center\; background-color: rgb(124\, 229\, 246)\;">Reception</span><span style="color: rgb(0\, 0\, 0)\; font-family: &quot\;Work Sans&quot\;\; font-size: 24px\; text-align: center\; background-color: rgb(124\, 229\, 246)\;">&nbsp\;</span><span style="color: rgb(0\, 0\, 0)\; font-family: &quot\;Work Sans&quot\;\; font-size: 24px\; text-align: center\; background-color: rgb(124\, 229\, 246)\;">at</span><span style="color: rgb(0\, 0\, 0)\; font-family: &quot\;Work Sans&quot\;\; font-size: 24px\; text-align: center\; background-color: rgb(124\, 229\, 246)\;">&nbsp\;</span><span style="color: rgb(0\, 0\, 0)\; font-family: &quot\;Work Sans&quot\;\; font-size: 24px\; text-align: center\; background-color: rgb(124\, 229\, 246)\;">the</span><span style="color: rgb(0\, 0\, 0)\; font-family: &quot\;Work Sans&quot\;\; font-size: 24px\; text-align: center\; background-color: rgb(124\, 229\, 246)\;">&nbsp\;</span><span style="color: rgb(0\, 0\, 0)\; font-family: &quot\;Work Sans&quot\;\; font-size: 24px\; text-align: center\; background-color: rgb(124\, 229\, 246)\;">Alibi</span><span style="color: rgb(0\, 0\, 0)\; font-family: &quot\;Work Sans&quot\;\; font-size: 24px\; text-align: center\; background-color: rgb(124\, 229\, 246)\;">&nbsp\;</span><span style="color: rgb(0\, 0\, 0)\; font-family: &quot\;Work Sans&quot\;\; font-size: 24px\; text-align: center\; background-color: rgb(124\, 229\, 246)\;">Rooftop</span><span style="color: rgb(0\, 0\, 0)\; font-family: &quot\;Work Sans&quot\;\; font-size: 24px\; text-align: center\; background-color: rgb(124\, 229\, 246)\;">&nbsp\;</span><span style="color: rgb(0\, 0\, 0)\; font-family: &quot\;Work Sans&quot\;\; font-size: 24px\; text-align: center\; background-color: rgb(124\, 229\, 246)\;">Lounge</span><span style="color: rgb(0\, 0\, 0)\; font-family: &quot\;Work Sans&quot\;\; font-size: 24px\; text-align: center\; background-color: rgb(124\, 229\, 246)\;">&nbsp\;</span><span style="color: rgb(0\, 0\, 0)\; font-family: &quot\;Work Sans&quot\;\; font-size: 24px\; text-align: center\; background-color: rgb(124\, 229\, 246)\;">on</span><span style="color: rgb(0\, 0\, 0)\; font-family: &quot\;Work Sans&quot\;\; font-size: 24px\; text-align: center\; background-color: rgb(124\, 229\, 246)\;">&nbsp\;</span><span style="color: rgb(0\, 0\, 0)\; font-family: &quot\;Work Sans&quot\;\; font-size: 24px\; text-align: center\; background-color: rgb(124\, 229\, 246)\;">top</span><span style="color: rgb(0\, 0\, 0)\; font-family: &quot\;Work Sans&quot\;\; font-size: 24px\; text-align: center\; background-color: rgb(124\, 229\, 246)\;">&nbsp\;</span><span style="color: rgb(0\, 0\, 0)\; font-family: &quot\;Work Sans&quot\;\; font-size: 24px\; text-align: center\; background-color: rgb(124\, 229\, 246)\;">of</span><span style="color: rgb(0\, 0\, 0)\; font-family: &quot\;Work Sans&quot\;\; font-size: 24px\; text-align: center\; background-color: rgb(124\, 229\, 246)\;">&nbsp\;</span><span style="color: rgb(0\, 0\, 0)\; font-family: &quot\;Work Sans&quot\;\; font-size: 24px\; text-align: center\; background-color: rgb(124\, 229\, 246)\;">the</span><span style="color: rgb(0\, 0\, 0)\; font-family: &quot\;Work Sans&quot\;\; font-size: 24px\; text-align: center\; background-color: rgb(124\, 229\, 246)\;">&nbsp\;</span><span style="color: rgb(0\, 0\, 0)\; font-family: &quot\;Work Sans&quot\;\; font-size: 24px\; text-align: center\; background-color: rgb(124\, 229\, 246)\;">Canopy</span><span style="color: rgb(0\, 0\, 0)\; font-family: &quot\;Work Sans&quot\;\; font-size: 24px\; text-align: center\; background-color: rgb(124\, 229\, 246)\;">&nbsp\;</span><span style="color: rgb(0\, 0\, 0)\; font-family: &quot\;Work Sans&quot\;\; font-size: 24px\; text-align: center\; background-color: rgb(124\, 229\, 246)\;">Hotel</span><span style="color: rgb(0\, 0\, 0)\; font-family: &quot\;Work Sans&quot\;\; font-size: 24px\; text-align: center\; background-color: rgb(124\, 229\, 246)\;">&nbsp\;</span><span style="color: rgb(0\, 0\, 0)\; font-family: &quot\;Work Sans&quot\;\; font-size: 24px\; text-align: center\; background-color: rgb(124\, 229\, 246)\;">in</span><span style="color: rgb(0\, 0\, 0)\; font-family: &quot\;Work Sans&quot\;\; font-size: 24px\; text-align: center\; background-color: rgb(124\, 229\, 246)\;">&nbsp\;</span><span style="color: rgb(0\, 0\, 0)\; font-family: &quot\;Work Sans&quot\;\; font-size: 24px\; text-align: center\; background-color: rgb(124\, 229\, 246)\;">Downtown</span><span style="color: rgb(0\, 0\, 0)\; font-family: &quot\;Work Sans&quot\;\; font-size: 24px\; text-align: center\; background-color: rgb(124\, 229\, 246)\;">&nbsp\;</span><span style="color: rgb(0\, 0\, 0)\; font-family: &quot\;Work Sans&quot\;\; font-size: 24px\; text-align: center\; background-color: rgb(124\, 229\, 246)\;">Tempe.</span><span style="color: rgb(0\, 0\, 0)\; font-family: &quot\;Work Sans&quot\;\; font-size: 24px\; text-align: center\; background-color: rgb(124\, 229\, 246)\;">&nbsp\;</span><span style="color: rgb(0\, 0\, 0)\; font-family: &quot\;Work Sans&quot\;\; font-size: 24px\; text-align: center\; background-color: rgb(124\, 229\, 246)\;">This</span><span style="color: rgb(0\, 0\, 0)\; font-family: &quot\;Work Sans&quot\;\; font-size: 24px\; text-align: center\; background-color: rgb(124\, 229\, 246)\;">&nbsp\;</span><span style="color: rgb(0\, 0\, 0)\; font-family: &quot\;Work Sans&quot\;\; font-size: 24px\; text-align: center\; background-color: rgb(124\, 229\, 246)\;">event</span><span style="color: rgb(0\, 0\, 0)\; font-family: &quot\;Work Sans&quot\;\; font-size: 24px\; text-align: center\; background-color: rgb(124\, 229\, 246)\;">&nbsp\;</span><span style="color: rgb(0\, 0\, 0)\; font-family: &quot\;Work Sans&quot\;\; font-size: 24px\; text-align: center\; background-color: rgb(124\, 229\, 246)\;">will</span><span style="color: rgb(0\, 0\, 0)\; font-family: &quot\;Work Sans&quot\;\; font-size: 24px\; text-align: center\; background-color: rgb(124\, 229\, 246)\;">&nbsp\;</span><span style="color: rgb(0\, 0\, 0)\; font-family: &quot\;Work Sans&quot\;\; font-size: 24px\; text-align: center\; background-color: rgb(124\, 229\, 246)\;">include</span><span style="color: rgb(0\, 0\, 0)\; font-family: &quot\;Work Sans&quot\;\; font-size: 24px\; text-align: center\; background-color: rgb(124\, 229\, 246)\;">&nbsp\;</span><span style="color: rgb(0\, 0\, 0)\; font-family: &quot\;Work Sans&quot\;\; font-size: 24px\; text-align: center\; background-color: rgb(124\, 229\, 246)\;">a</span><span style="color: rgb(0\, 0\, 0)\; font-family: &quot\;Work Sans&quot\;\; font-size: 24px\; text-align: center\; background-color: rgb(124\, 229\, 246)\;">&nbsp\;</span><span style="color: rgb(0\, 0\, 0)\; font-family: &quot\;Work Sans&quot\;\; font-size: 24px\; text-align: center\; background-color: rgb(124\, 229\, 246)\;">meet</span><span style="color: rgb(0\, 0\, 0)\; font-family: &quot\;Work Sans&quot\;\; font-size: 24px\; text-align: center\; background-color: rgb(124\, 229\, 246)\;">&nbsp\;</span><span style="color: rgb(0\, 0\, 0)\; font-family: &quot\;Work Sans&quot\;\; font-size: 24px\; text-align: center\; background-color: rgb(124\, 229\, 246)\;">and</span><span style="color: rgb(0\, 0\, 0)\; font-family: &quot\;Work Sans&quot\;\; font-size: 24px\; text-align: center\; background-color: rgb(124\, 229\, 246)\;">&nbsp\;</span><span style="color: rgb(0\, 0\, 0)\; font-family: &quot\;Work Sans&quot\;\; font-size: 24px\; text-align: center\; background-color: rgb(124\, 229\, 246)\;">greet</span><span style="color: rgb(0\, 0\, 0)\; font-family: &quot\;Work Sans&quot\;\; font-size: 24px\; text-align: center\; background-color: rgb(124\, 229\, 246)\;">&nbsp\;</span><span style="color: rgb(0\, 0\, 0)\; font-family: &quot\;Work Sans&quot\;\; font-size: 24px\; text-align: center\; background-color: rgb(124\, 229\, 246)\;">with</span><span style="color: rgb(0\, 0\, 0)\; font-family: &quot\;Work Sans&quot\;\; font-size: 24px\; text-align: center\; background-color: rgb(124\, 229\, 246)\;">&nbsp\;</span><span style="color: rgb(0\, 0\, 0)\; font-family: &quot\;Work Sans&quot\;\; font-size: 24px\; text-align: center\; background-color: rgb(124\, 229\, 246)\;">Olympic</span><span style="color: rgb(0\, 0\, 0)\; font-family: &quot\;Work Sans&quot\;\; font-size: 24px\; text-align: center\; background-color: rgb(124\, 229\, 246)\;">&nbsp\;</span><span style="color: rgb(0\, 0\, 0)\; font-family: &quot\;Work Sans&quot\;\; font-size: 24px\; text-align: center\; background-color: rgb(124\, 229\, 246)\;">athletes</span><span style="color: rgb(0\, 0\, 0)\; font-family: &quot\;Work Sans&quot\;\; font-size: 24px\; text-align: center\; background-color: rgb(124\, 229\, 246)\;">&nbsp\;</span><span style="color: rgb(0\, 0\, 0)\; font-family: &quot\;Work Sans&quot\;\; font-size: 24px\; text-align: center\; background-color: rgb(124\, 229\, 246)\;">and</span><span style="color: rgb(0\, 0\, 0)\; font-family: &quot\;Work Sans&quot\;\; font-size: 24px\; text-align: center\; background-color: rgb(124\, 229\, 246)\;">&nbsp\;</span><span style="color: rgb(0\, 0\, 0)\; font-family: &quot\;Work Sans&quot\;\; font-size: 24px\; text-align: center\; background-color: rgb(124\, 229\, 246)\;">coaches\,</span><span style="color: rgb(0\, 0\, 0)\; font-family: &quot\;Work Sans&quot\;\; font-size: 24px\; text-align: center\; background-color: rgb(124\, 229\, 246)\;">&nbsp\;</span><span style="color: rgb(0\, 0\, 0)\; font-family: &quot\;Work Sans&quot\;\; font-size: 24px\; text-align: center\; background-color: rgb(124\, 229\, 246)\;">and</span><span style="color: rgb(0\, 0\, 0)\; font-family: &quot\;Work Sans&quot\;\; font-size: 24px\; text-align: center\; background-color: rgb(124\, 229\, 246)\;">&nbsp\;</span><span style="color: rgb(0\, 0\, 0)\; font-family: &quot\;Work Sans&quot\;\; font-size: 24px\; text-align: center\; background-color: rgb(124\, 229\, 246)\;">an</span><span style="color: rgb(0\, 0\, 0)\; font-family: &quot\;Work Sans&quot\;\; font-size: 24px\; text-align: center\; background-color: rgb(124\, 229\, 246)\;">&nbsp\;</span><span style="color: rgb(0\, 0\, 0)\; font-family: &quot\;Work Sans&quot\;\; font-size: 24px\; text-align: center\; background-color: rgb(124\, 229\, 246)\;">opportunity</span><span style="color: rgb(0\, 0\, 0)\; font-family: &quot\;Work Sans&quot\;\; font-size: 24px\; text-align: center\; background-color: rgb(124\, 229\, 246)\;">&nbsp\;</span><span style="color: rgb(0\, 0\, 0)\; font-family: &quot\;Work Sans&quot\;\; font-size: 24px\; text-align: center\; background-color: rgb(124\, 229\, 246)\;">to</span><span style="color: rgb(0\, 0\, 0)\; font-family: &quot\;Work Sans&quot\;\; font-size: 24px\; text-align: center\; background-color: rgb(124\, 229\, 246)\;">&nbsp\;</span><span style="color: rgb(0\, 0\, 0)\; font-family: &quot\;Work Sans&quot\;\; font-size: 24px\; text-align: center\; background-color: rgb(124\, 229\, 246)\;">network</span><span style="color: rgb(0\, 0\, 0)\; font-family: &quot\;Work Sans&quot\;\; font-size: 24px\; text-align: center\; background-color: rgb(124\, 229\, 246)\;">&nbsp\;</span><span style="color: rgb(0\, 0\, 0)\; font-family: &quot\;Work Sans&quot\;\; font-size: 24px\; text-align: center\; background-color: rgb(124\, 229\, 246)\;">with</span><span style="color: rgb(0\, 0\, 0)\; font-family: &quot\;Work Sans&quot\;\; font-size: 24px\; text-align: center\; background-color: rgb(124\, 229\, 246)\;">&nbsp\;</span><span style="color: rgb(0\, 0\, 0)\; font-family: &quot\;Work Sans&quot\;\; font-size: 24px\; text-align: center\; background-color: rgb(124\, 229\, 246)\;">local</span><span style="color: rgb(0\, 0\, 0)\; font-family: &quot\;Work Sans&quot\;\; font-size: 24px\; text-align: center\; background-color: rgb(124\, 229\, 246)\;">&nbsp\;</span><span style="color: rgb(0\, 0\, 0)\; font-family: &quot\;Work Sans&quot\;\; font-size: 24px\; text-align: center\; background-color: rgb(124\, 229\, 246)\;">professionals</span><span style="color: rgb(0\, 0\, 0)\; font-family: &quot\;Work Sans&quot\;\; font-size: 24px\; text-align: center\; background-color: rgb(124\, 229\, 246)\;">&nbsp\;</span><span style="color: rgb(0\, 0\, 0)\; font-family: &quot\;Work Sans&quot\;\; font-size: 24px\; text-align: center\; background-color: rgb(124\, 229\, 246)\;">and</span><span style="color: rgb(0\, 0\, 0)\; font-family: &quot\;Work Sans&quot\;\; font-size: 24px\; text-align: center\; background-color: rgb(124\, 229\, 246)\;">&nbsp\;</span><span style="color: rgb(0\, 0\, 0)\; font-family: &quot\;Work Sans&quot\;\; font-size: 24px\; text-align: center\; background-color: rgb(124\, 229\, 246)\;">learn</span><span style="color: rgb(0\, 0\, 0)\; font-family: &quot\;Work Sans&quot\;\; font-size: 24px\; text-align: center\; background-color: rgb(124\, 229\, 246)\;">&nbsp\;</span><span style="color: rgb(0\, 0\, 0)\; font-family: &quot\;Work Sans&quot\;\; font-size: 24px\; text-align: center\; background-color: rgb(124\, 229\, 246)\;">how</span><span style="color: rgb(0\, 0\, 0)\; font-family: &quot\;Work Sans&quot\;\; font-size: 24px\; text-align: center\; background-color: rgb(124\, 229\, 246)\;">&nbsp\;</span><span style="color: rgb(0\, 0\, 0)\; font-family: &quot\;Work Sans&quot\;\; font-size: 24px\; text-align: center\; background-color: rgb(124\, 229\, 246)\;">we</span><span style="color: rgb(0\, 0\, 0)\; font-family: &quot\;Work Sans&quot\;\; font-size: 24px\; text-align: center\; background-color: rgb(124\, 229\, 246)\;">&nbsp\;</span><span style="color: rgb(0\, 0\, 0)\; font-family: &quot\;Work Sans&quot\;\; font-size: 24px\; text-align: center\; background-color: rgb(124\, 229\, 246)\;">can</span><span style="color: rgb(0\, 0\, 0)\; font-family: &quot\;Work Sans&quot\;\; font-size: 24px\; text-align: center\; background-color: rgb(124\, 229\, 246)\;">&nbsp\;</span><span style="color: rgb(0\, 0\, 0)\; font-family: &quot\;Work Sans&quot\;\; font-size: 24px\; text-align: center\; background-color: rgb(124\, 229\, 246)\;">make</span><span style="color: rgb(0\, 0\, 0)\; font-family: &quot\;Work Sans&quot\;\; font-size: 24px\; text-align: center\; background-color: rgb(124\, 229\, 246)\;">&nbsp\;</span><span style="color: rgb(0\, 0\, 0)\; font-family: &quot\;Work Sans&quot\;\; font-size: 24px\; text-align: center\; background-color: rgb(124\, 229\, 246)\;">diving</span><span style="color: rgb(0\, 0\, 0)\; font-family: &quot\;Work Sans&quot\;\; font-size: 24px\; text-align: center\; background-color: rgb(124\, 229\, 246)\;">&nbsp\;</span><span style="color: rgb(0\, 0\, 0)\; font-family: &quot\;Work Sans&quot\;\; font-size: 24px\; text-align: center\; background-color: rgb(124\, 229\, 246)\;">more</span><span style="color: rgb(0\, 0\, 0)\; font-family: &quot\;Work Sans&quot\;\; font-size: 24px\; text-align: center\; background-color: rgb(124\, 229\, 246)\;">&nbsp\;</span><span style="color: rgb(0\, 0\, 0)\; font-family: &quot\;Work Sans&quot\;\; font-size: 24px\; text-align: center\; background-color: rgb(124\, 229\, 246)\;">accessible</span><span style="color: rgb(0\, 0\, 0)\; font-family: &quot\;Work Sans&quot\;\; font-size: 24px\; text-align: center\; background-color: rgb(124\, 229\, 246)\;">&nbsp\;</span><span style="color: rgb(0\, 0\, 0)\; font-family: &quot\;Work Sans&quot\;\; font-size: 24px\; text-align: center\; background-color: rgb(124\, 229\, 246)\;">and</span><span style="color: rgb(0\, 0\, 0)\; font-family: &quot\;Work Sans&quot\;\; font-size: 24px\; text-align: center\; background-color: rgb(124\, 229\, 246)\;">&nbsp\;</span><span style="color: rgb(0\, 0\, 0)\; font-family: &quot\;Work Sans&quot\;\; font-size: 24px\; text-align: center\; background-color: rgb(124\, 229\, 246)\;">inclusive</span><span style="color: rgb(0\, 0\, 0)\; font-family: &quot\;Work Sans&quot\;\; font-size: 24px\; text-align: center\; background-color: rgb(124\, 229\, 246)\;">&nbsp\;</span><span style="color: rgb(0\, 0\, 0)\; font-family: &quot\;Work Sans&quot\;\; font-size: 24px\; text-align: center\; background-color: rgb(124\, 229\, 246)\;">for</span><span style="color: rgb(0\, 0\, 0)\; font-family: &quot\;Work Sans&quot\;\; font-size: 24px\; text-align: center\; background-color: rgb(124\, 229\, 246)\;">&nbsp\;</span><span style="color: rgb(0\, 0\, 0)\; font-family: &quot\;Work Sans&quot\;\; font-size: 24px\; text-align: center\; background-color: rgb(124\, 229\, 246)\;">all.</span>
LOCATION:Canopy Hotel 108 E University Dr Tempe\, AZ 85281
UID:e.2837.766
SEQUENCE:3
DTSTAMP:20260423T224405Z
URL:https://business.equalitychamber.org/events/details/dive-into-diversity-766
END:VEVENT

END:VCALENDAR
