BEGIN:VCALENDAR
VERSION:2.0
PRODID:-//ChamberMaster//Event Calendar 2.0//EN
METHOD:PUBLISH
X-PUBLISHED-TTL:P3D
REFRESH-INTERVAL:P3D
CALSCALE:GREGORIAN
BEGIN:VEVENT
DTSTART:20211104T230000Z
DTEND:20211105T010000Z
X-MICROSOFT-CDO-ALLDAYEVENT:FALSE
SUMMARY:Doing Business with the City of Phoenix
DESCRIPTION:Small businesses are invited to meet representatives from the City of Phoenix for an introduction on doing business with the city.\n\n\n\nYou'll Learn:\n\n	What the city buys\n	How to register as a vendor\n	Current and expiring contrancts\n	Hot to respond to a solicitation \n	the impact of local spending in communities
X-ALT-DESC;FMTTYPE=text/html:Small businesses are invited to meet representatives from the City of Phoenix for an introduction on doing business with the city.<br />\n<br />\nYou&#39\;ll Learn:\n<ul>\n	<li>What the city buys</li>\n	<li>How to register as a vendor</li>\n	<li>Current and expiring contrancts</li>\n	<li>Hot to respond to a solicitation&nbsp\;</li>\n	<li>the impact of local spending in communities&nbsp\;</li>\n</ul>\n
LOCATION:Virtual\, use QR code to join at time of event.
UID:e.2837.261
SEQUENCE:3
DTSTAMP:20260425T005009Z
URL:https://business.equalitychamber.org/events/details/doing-business-with-the-city-of-phoenix-261
END:VEVENT

END:VCALENDAR
