BEGIN:VCALENDAR
VERSION:2.0
PRODID:-//ChamberMaster//Event Calendar 2.0//EN
METHOD:PUBLISH
X-PUBLISHED-TTL:P3D
REFRESH-INTERVAL:P3D
CALSCALE:GREGORIAN
BEGIN:VEVENT
DTSTART:20240528T010000Z
DTEND:20240528T020000Z
X-MICROSOFT-CDO-ALLDAYEVENT:FALSE
SUMMARY:Drag Coalition Informational Meeting
DESCRIPTION:Join us to learn more about the Drag Performer Coalition.
X-ALT-DESC;FMTTYPE=text/html:Join us to learn more about the Drag Performer Coalition.&nbsp\;
LOCATION:Stacy's at Melrose
UID:e.2837.1753
SEQUENCE:3
DTSTAMP:20260423T081926Z
URL:https://business.equalitychamber.org/events/details/drag-coalition-informational-meeting-1753
END:VEVENT

END:VCALENDAR
