BEGIN:VCALENDAR
VERSION:2.0
PRODID:-//ChamberMaster//Event Calendar 2.0//EN
METHOD:PUBLISH
X-PUBLISHED-TTL:P3D
REFRESH-INTERVAL:P3D
CALSCALE:GREGORIAN
BEGIN:VEVENT
DTSTART:20210205T190000Z
DTEND:20210205T200000Z
X-MICROSOFT-CDO-ALLDAYEVENT:FALSE
SUMMARY:February Virtual Chamber Lunch
DESCRIPTION:Join us online Friday\, February 5th!
X-ALT-DESC;FMTTYPE=text/html:<em><span style="color:#7E7E7E\;"><span style="font-family:arial\,sans-serif\;"><span style="font-size:13.5pt\;">Join us online Friday\, February 5th!</span></span></span></em>
LOCATION:Online via Zoom Meeting This event is FREE and for members only! All ACTIVE MEMBERS will receive a link Friday morning.
UID:e.2837.214
SEQUENCE:3
DTSTAMP:20260425T140423Z
URL:https://business.equalitychamber.org/events/details/february-virtual-chamber-lunch-214
END:VEVENT

END:VCALENDAR
