BEGIN:VCALENDAR
VERSION:2.0
PRODID:-//ChamberMaster//Event Calendar 2.0//EN
METHOD:PUBLISH
X-PUBLISHED-TTL:P3D
REFRESH-INTERVAL:P3D
CALSCALE:GREGORIAN
BEGIN:VEVENT
DTSTART:20240503T180000Z
DTEND:20240503T200000Z
X-MICROSOFT-CDO-ALLDAYEVENT:FALSE
SUMMARY:GPECC Luncheon
DESCRIPTION:Join us for our May Luncheon at Yumbar! \n\nRick Benton\, an EOS coach will present on EOS and how it can help your business grow.\n\nhttps://www.eosworldwide.com/rick-benton\n\nLunch Sponsors: \n\nAunt Rita's \n\nPride Guide\n\none-n-ten\n\n\n\nMenu: \n\nGrilled Chicken Club: Chicken Breast\, Applewood Smoked Bacon\, Swiss Cheese\, Herbed Mayo\, Apple-Onion Compote\, Multi Grain Bread\n\n \n\nCalifornia Salad: Romaine\, Apple\, Golden Raisins\, Blue Cheese\, Candied Walnuts\, Poppy Seed Dressing\n\n \n\nSonoran Wheat Berry Bowl: Wheat Berries\, Pinto Beans\, Jalapeno\, Roasted Corn\, Grilled Red Bell Pepper\, Avocado\, Cilantro w/ Chili Lime Sauce\n\n \n\nOasis Veggie Bowl: Brown Rice\, Scallions\, Cucumber\, Carrots\, Radish\, Baby Spinach\, Sesame Seeds\, Carrot Miso Dressing
X-ALT-DESC;FMTTYPE=text/html:Join us for our May Luncheon at Yumbar!&nbsp\;<br />\nRick Benton\, an EOS coach will present on EOS and how it can help your business grow.<br />\n<span style="font-family:century gothic\,sans-serif\;"><span style="font-size:12.0pt\;"><a href="https://www.eosworldwide.com/rick-benton">https://www.eosworldwide.com/rick-benton</a></span></span><br />\nLunch Sponsors:&nbsp\;<br />\nAunt Rita&#39\;s&nbsp\;<br />\nPride Guide<br />\none-n-ten<br />\n<br />\nMenu:&nbsp\;<br />\n<span style="font-family:arial\,sans-serif\;"><span style="font-size:10.5pt\;">Grilled Chicken Club: Chicken Breast\, Applewood Smoked Bacon\, Swiss Cheese\, Herbed Mayo\, Apple-Onion Compote\, Multi Grain Bread</span></span><br />\n&nbsp\;<br />\n<span style="font-family:arial\,sans-serif\;"><span style="font-size:10.5pt\;">California Salad: Romaine\, Apple\, Golden Raisins\, Blue Cheese\, Candied Walnuts\, Poppy Seed Dressing</span></span><br />\n&nbsp\;<br />\n<span style="font-family:arial\,sans-serif\;"><span style="font-size:10.5pt\;">Sonoran Wheat Berry Bowl: Wheat Berries\, Pinto Beans\, Jalapeno\, Roasted Corn\, Grilled Red Bell Pepper\, Avocado\, Cilantro w/ Chili Lime Sauce</span></span><br />\n&nbsp\;<br />\n<span style="font-family:arial\,sans-serif\;"><span style="font-size:10.5pt\;">Oasis Veggie Bowl: Brown Rice\, Scallions\, Cucumber\, Carrots\, Radish\, Baby Spinach\, Sesame Seeds\, Carrot Miso Dressing&nbsp\;</span></span><br />\n&nbsp\;
LOCATION:Yumbar 635 W Glenrosa Ave Phoenix\, AZ 85013
UID:e.2837.1662
SEQUENCE:3
DTSTAMP:20260423T080559Z
URL:https://business.equalitychamber.org/events/details/gpecc-luncheon-1662
END:VEVENT

END:VCALENDAR
