BEGIN:VCALENDAR
VERSION:2.0
PRODID:-//ChamberMaster//Event Calendar 2.0//EN
METHOD:PUBLISH
X-PUBLISHED-TTL:P3D
REFRESH-INTERVAL:P3D
CALSCALE:GREGORIAN
BEGIN:VEVENT
DTSTART:20211203T180000Z
DTEND:20211203T200000Z
X-MICROSOFT-CDO-ALLDAYEVENT:FALSE
SUMMARY:In Person Chamber Luncheon November 2021
DESCRIPTION:December Chamber Luncheon\n\nFriday\, December 3rd\, 11:00 am - 1:00 PM\n\nPlease register for our monthly luncheon here.
X-ALT-DESC;FMTTYPE=text/html:December Chamber Luncheon<br />\nFriday\, December 3rd\, 11:00 am - 1:00 PM<br />\nPlease register for our monthly luncheon here.<br />\n&nbsp\;
LOCATION:The Gladly 2201 E Camelback Rd Phoenix\, AZ 85016
UID:e.2837.257
SEQUENCE:3
DTSTAMP:20260425T004921Z
URL:https://business.equalitychamber.org/events/details/in-person-chamber-luncheon-november-2021-257
END:VEVENT

END:VCALENDAR
