BEGIN:VCALENDAR
VERSION:2.0
PRODID:-//ChamberMaster//Event Calendar 2.0//EN
METHOD:PUBLISH
X-PUBLISHED-TTL:P3D
REFRESH-INTERVAL:P3D
CALSCALE:GREGORIAN
BEGIN:VEVENT
DTSTART:20211001T180000Z
DTEND:20211001T200000Z
X-MICROSOFT-CDO-ALLDAYEVENT:FALSE
SUMMARY:In Person Chamber Luncheon October 2021
DESCRIPTION:October Chamber Luncheon\n\nFriday\, October 1st\, 11:00 am - 1:00 PM\n\nPlease register for our monthly luncheon here.\n\nDeadline to RSVP is on or before 9/30.
X-ALT-DESC;FMTTYPE=text/html:October Chamber Luncheon<br>\nFriday\, October 1st\, 11:00 am - 1:00 PM<br>\nPlease register for our monthly luncheon here.<br>\nDeadline to RSVP is on or before 9/30.&nbsp\;
LOCATION:FOUND:RE 1100 N Central Ave Phoenix\, AZ 85004
UID:e.2837.251
SEQUENCE:3
DTSTAMP:20260425T021211Z
URL:https://business.equalitychamber.org/events/details/in-person-chamber-luncheon-october-2021-251
END:VEVENT

END:VCALENDAR
