BEGIN:VCALENDAR
VERSION:2.0
PRODID:-//ChamberMaster//Event Calendar 2.0//EN
METHOD:PUBLISH
X-PUBLISHED-TTL:P3D
REFRESH-INTERVAL:P3D
CALSCALE:GREGORIAN
BEGIN:VEVENT
DTSTART:20210903T180000Z
DTEND:20210903T200000Z
X-MICROSOFT-CDO-ALLDAYEVENT:FALSE
SUMMARY:In Person Chamber Luncheon September 2021
DESCRIPTION:September Chamber Luncheon\n\nFriday\, September 3rd\, 11:00 am - 1:00 PM\n\nPlease register for our monthly luncheon here.\n\nDeadline to RSVP is on or before 8/2.
X-ALT-DESC;FMTTYPE=text/html:September Chamber Luncheon<br />\nFriday\, September 3rd\, 11:00 am - 1:00 PM<br />\nPlease register for our monthly luncheon here.<br />\nDeadline to RSVP is on or before 8/2.&nbsp\;
LOCATION:The Gladly 2201 E Camelback Rd. Phoenix\, AZ 85016
UID:e.2837.247
SEQUENCE:3
DTSTAMP:20260425T033906Z
URL:https://business.equalitychamber.org/events/details/in-person-chamber-luncheon-september-2021-247
END:VEVENT

END:VCALENDAR
