BEGIN:VCALENDAR
VERSION:2.0
PRODID:-//ChamberMaster//Event Calendar 2.0//EN
METHOD:PUBLISH
X-PUBLISHED-TTL:P3D
REFRESH-INTERVAL:P3D
CALSCALE:GREGORIAN
BEGIN:VEVENT
DTSTART:20211119T003000Z
DTEND:20211119T023000Z
X-MICROSOFT-CDO-ALLDAYEVENT:FALSE
SUMMARY:In Person Chamber NetMixer November 2021
DESCRIPTION:Join us for our monthly NetMixer!  Our monthly NetMixers are perfect events for clients\, potential clients\, ERG members\, partners\, and friends to network with other Chamber and community members.  Our NetMixers are free so please RSVP for an accurate count.
X-ALT-DESC;FMTTYPE=text/html:Join us for our monthly NetMixer!&nbsp\; Our monthly NetMixers are perfect events for clients\, potential clients\, ERG members\, partners\, and friends to network with other Chamber and community members. &nbsp\;Our NetMixers are free so please RSVP for an accurate count.<br />\n&nbsp\;
LOCATION:Exposed Art Gallery 4225 N 7th Ave Phoenix\, AZ 85013
UID:e.2837.256
SEQUENCE:3
DTSTAMP:20260425T005009Z
URL:https://business.equalitychamber.org/events/details/in-person-chamber-netmixer-november-2021-256
END:VEVENT

END:VCALENDAR
