BEGIN:VCALENDAR
VERSION:2.0
PRODID:-//ChamberMaster//Event Calendar 2.0//EN
METHOD:PUBLISH
X-PUBLISHED-TTL:P3D
REFRESH-INTERVAL:P3D
CALSCALE:GREGORIAN
BEGIN:VEVENT
DTSTART:20210917T003000Z
DTEND:20210917T023000Z
X-MICROSOFT-CDO-ALLDAYEVENT:FALSE
SUMMARY:In Person Chamber NetMixer September 2021
DESCRIPTION:Join us for our monthly NetMixer!  Our monthly NetMixers are perfect events for clients\, potential clients\, ERG members\, partners\, and friends to network with other Chamber and community members.  Our NetMixers are free so please RSVP for an accurate count.
X-ALT-DESC;FMTTYPE=text/html:Join us for our monthly NetMixer!&nbsp\; Our monthly NetMixers are perfect events for clients\, potential clients\, ERG members\, partners\, and friends to network with other Chamber and community members. &nbsp\;Our NetMixers are free so please RSVP for an accurate count.<br />\n&nbsp\;
LOCATION:Alliance Wealth Management 3550 N Central Ave\, Suite 1440 Phoenix\, AZ 85012
UID:e.2837.248
SEQUENCE:3
DTSTAMP:20260425T033844Z
URL:https://business.equalitychamber.org/events/details/in-person-chamber-netmixer-september-2021-248
END:VEVENT

END:VCALENDAR
