BEGIN:VCALENDAR
VERSION:2.0
PRODID:-//ChamberMaster//Event Calendar 2.0//EN
METHOD:PUBLISH
X-PUBLISHED-TTL:P3D
REFRESH-INTERVAL:P3D
CALSCALE:GREGORIAN
BEGIN:VEVENT
DTSTART:20200710T190000Z
DTEND:20200710T200000Z
X-MICROSOFT-CDO-ALLDAYEVENT:FALSE
SUMMARY:July Virtual Chamber Lunch
DESCRIPTION:Join us online Friday July 10th!\n\n\n\nYou're invited to join your fellow Chamber members for our complimentary Virtual Lunch this month. Until we can meet again in person\, we will continue to have our normal monthly meeting online!  Our guest speaker will be Rick McCartney who will give us helpful advice on how to be a Phoenix and rise up from the ashes\, dust yourself off and get back to business. Covid-19 will be an issue for the rest of this year so now is the time to pivot and make adjustments! \n\n \n\n	With recent economic shutdown   how can we come back?\n	What are some tips for me to grab market share while my customers are not spending money?\n	What are some quick and effective ways to market moving forward?\n	5 things to look out for during this time\n\n \n\nRick McCartney has been leading business in Phoenix for the past 25 years. As President and CEO of InMedia Company\, he is responsible for developing and producing many brands and businesses including producing many local\, regional and national publications\, media products and startup technologies. He is the publisher of Greater Phoenix's In Business Magazine. He has worked to empower Arizona's film industry working with the Arizona Film & Digital Media office and has been an advocate for legislation to provide incentives and other opportunities to ensure a\n\nbetter Arizona. He is a member of several boards including one n ten\, Children's Museum of Phoenix\, Local First Arizona\, Phoenix Film Foundation Advisory Board and the Governors' Workforce Council\, among others\, and is a member of Greater Phoenix Leadership.
X-ALT-DESC;FMTTYPE=text/html:<em><span style="color:#7E7E7E\;"><span style="font-family:arial\,sans-serif\;"><span style="font-size:13.5pt\;">Join us online Friday July 10th!</span></span></span></em><br />\n<br />\n<span style="color:black\;"><span style="font-family:georgia\,serif\;"><span style="font-size:10.5pt\;">You&#39\;re invited to join your fellow Chamber members for our complimentary&nbsp\;Virtual Lunch&nbsp\;this month. Until we can meet again in person\, we will continue to have our normal monthly meeting online!&nbsp\;&nbsp\;Our guest speaker will be&nbsp\;<strong>Rick McCartney</strong>&nbsp\;who will give us helpful advice on how to be a Phoenix and rise up from the ashes\, dust yourself off and get back to business. Covid-19 will be an issue for the rest of this year so now is the time to pivot and make adjustments!&nbsp\;</span></span></span><br />\n&nbsp\;\n<ul>\n	<li><span style="color:black\;"><span style="font-family:georgia\,serif\;"><span style="font-size:10.5pt\;">With recent economic shutdown &ndash\; how can we come back?</span></span></span></li>\n	<li><span style="color:black\;"><span style="font-family:georgia\,serif\;"><span style="font-size:10.5pt\;">What are some tips for me to grab market share while my customers are not spending money?</span></span></span></li>\n	<li><span style="color:black\;"><span style="font-family:georgia\,serif\;"><span style="font-size:10.5pt\;">What are some quick and effective ways to market moving forward?</span></span></span></li>\n	<li><span style="color:black\;"><span style="font-family:georgia\,serif\;"><span style="font-size:10.5pt\;">5 things to look out for during this time</span></span></span></li>\n</ul>\n&nbsp\;<br />\n<span style="color:black\;"><span style="font-family:georgia\,serif\;"><span style="font-size:10.5pt\;">Rick McCartney has been leading business in Phoenix for the past 25 years. As President and CEO of InMedia Company\, he is responsible for developing and producing many brands and businesses including producing many local\, regional and national publications\, media products and startup technologies. He is the publisher of Greater Phoenix&rsquo\;s In Business Magazine. He has worked to empower Arizona&rsquo\;s film industry working with the Arizona Film &amp\; Digital Media office and has been an advocate for legislation to provide incentives and other opportunities to ensure a</span></span></span><br />\n<span style="color:black\;"><span style="font-family:georgia\,serif\;"><span style="font-size:10.5pt\;">better Arizona. He is a member of several boards including one&bull\;n&bull\;ten\, Children&rsquo\;s Museum of Phoenix\, Local First Arizona\, Phoenix Film Foundation Advisory Board and the Governors&rsquo\; Workforce Council\, among others\, and is a member of Greater Phoenix Leadership. </span></span></span><br />\n&nbsp\;
LOCATION:Online via Zoom Meeting This event is FREE and for members only! All ACTIVE MEMBERS will receive a link Friday morning
UID:e.2837.188
SEQUENCE:3
DTSTAMP:20260425T233652Z
URL:https://business.equalitychamber.org/events/details/july-virtual-chamber-lunch-188
END:VEVENT

END:VCALENDAR
