BEGIN:VCALENDAR
VERSION:2.0
PRODID:-//ChamberMaster//Event Calendar 2.0//EN
METHOD:PUBLISH
X-PUBLISHED-TTL:P3D
REFRESH-INTERVAL:P3D
CALSCALE:GREGORIAN
BEGIN:VEVENT
DTSTART:20200605T190000Z
DTEND:20200605T200000Z
X-MICROSOFT-CDO-ALLDAYEVENT:FALSE
SUMMARY:June Virtual Chamber Lunch
DESCRIPTION:You're invited to join your fellow Chamber members for our complimentary Virtual Lunch this month.
X-ALT-DESC;FMTTYPE=text/html:<span style="font-size: 11pt\; font-family: Arial\, sans-serif\; color: black\; background-image: initial\; background-position: initial\; background-size: initial\; background-repeat: initial\; background-attachment: initial\; background-origin: initial\; background-clip: initial\;">You&#39\;re invited to join your fellow Chamber members for our complimentary&nbsp\;<strong>Virtual Lunch </strong>this month.</span>
LOCATION:Online via Zoom Meeting This event is FREE and for members only. All ACTIVE MEMBERS will receive a link Friday morning. The featured restaurant for our June meeting will be Luana's. They will give anyone that calls and mentions the chamber a 15% discount on their meal. They can deliver your lunch to you at noon as you log on to our virtual lunch! Luana's Coffee & Bar @ 149 W. McDowell Rd Phoenix\, AZ 602.314.5557
UID:e.2837.186
SEQUENCE:3
DTSTAMP:20260426T010603Z
URL:https://business.equalitychamber.org/events/details/june-virtual-chamber-lunch-186
END:VEVENT

END:VCALENDAR
