BEGIN:VCALENDAR
VERSION:2.0
PRODID:-//ChamberMaster//Event Calendar 2.0//EN
METHOD:PUBLISH
X-PUBLISHED-TTL:P3D
REFRESH-INTERVAL:P3D
CALSCALE:GREGORIAN
BEGIN:VEVENT
DTSTART:20220511T000000Z
DTEND:20220511T010000Z
X-MICROSOFT-CDO-ALLDAYEVENT:FALSE
SUMMARY:Learning the Political System: What is the U.S. Government?
DESCRIPTION:As part of Equality Arizona's ongoing project of political education\, they will be hosting a workshop covering the fundamentals of the U.S. Government. Join us at Fair Trade Cafe in Phoenix for coffee and community\, and we'll have some stickers and t-shirts to hand out too! Masks will be provided for anyone who needs them. If you were able to attend our previous installment\, this will build on the historical concepts we covered\, but all levels of knowledge are welcome and encouraged to sign up.
X-ALT-DESC;FMTTYPE=text/html:<span style="color: rgb(46\, 47\, 58)\; font-family: futura-pt\; font-size: 19.2px\; background-color: rgb(254\, 251\, 246)\;">As part of Equality Arizona&#39\;s ongoing project of political education\, they will be hosting a workshop covering the fundamentals of the U.S. Government. Join us at Fair Trade Cafe in Phoenix for coffee and community\, and we&rsquo\;ll have some stickers and t-shirts to hand out too! Masks will be provided for anyone who needs them. If you were able to attend our previous installment\, this will build on the historical concepts we covered\, but all levels of knowledge are welcome and encouraged to sign up.</span>
LOCATION:Fair Trade Cafe 1020 N 1st Ave Phoenix\, AZ 85003
UID:e.2837.711
SEQUENCE:3
DTSTAMP:20260424T172900Z
URL:https://business.equalitychamber.org/events/details/learning-the-political-system-what-is-the-u-s-government-711
END:VEVENT

END:VCALENDAR
