BEGIN:VCALENDAR
VERSION:2.0
PRODID:-//ChamberMaster//Event Calendar 2.0//EN
METHOD:PUBLISH
X-PUBLISHED-TTL:P3D
REFRESH-INTERVAL:P3D
CALSCALE:GREGORIAN
BEGIN:VEVENT
DTSTART:20230622T163000Z
DTEND:20230622T193000Z
X-MICROSOFT-CDO-ALLDAYEVENT:FALSE
SUMMARY:LGBTQ+ Issues in Real Estate - 3 Hours Fair Housing Continuing Education
DESCRIPTION:T his class will discuss issues specific to the LGBTQ+ community in real estate:\n\nWhat is Gender Identity & Expression: clarity on terms used such as: sex assigned at birth\, Gender\, Gender Identity\, Gender Expression\, Gender Dysphoria\, and Transition\n\nRealtor Code of Ethics: Fair housing requirements of the NAR Code of Ethics and how it compares to state and federal Law\n\nState and Local Laws: A review of states and localities that have created laws stricter than the federal Fair Housing Laws and the impact on quality of Life (data from the ACLU)\n\nEquality / Diversity / Inclusion & Difficult Conversations: Define the terms equality\, equity\, inclusion\, diversity and others. A Review of "microaggressions" & "microinterventions"\n\nLegal Recognition of trans & non-binary Individuals: A review of state and federal law regarding recognition of trans and non-binary individuals\n\nReal Estate and LGBTQ+ issues: A review of Legal documents & challenges "deadnames"\, & best practices when representing gay\, trans\, and non-heteronormal clients\n\n\n\n \n\nW ith Special Guests:\n\nStevie Tran\, JD\n\nJuris Doctor\, May 2013\, Cum Laude\n\nMaurice A. Deane School of Law at Hofstra University\, Hempstead\, NY 2012-2013\n\n \n\nNathan Arrowsmith\, JD\n\nSandra Day O'Connor College of Law\, Arizona State University\, Tempe\, AZ\n\nJ.D.\, magna cum laude\, Order of the Coif\, Dean's Award\; May 2013
X-ALT-DESC;FMTTYPE=text/html:<p style="margin: 0px\; padding: 0px\; box-sizing: border-box\; color: rgb(111\, 114\, 135)\; font-size: 16px\; line-height: 1.5rem\; font-family: &quot\;Neue Plak&quot\;\, -apple-system\, BlinkMacSystemFont\, Roboto\, &quot\;Helvetica Neue&quot\;\, Helvetica\, Tahoma\, Arial\, sans-serif\;">T&#65279\;his class will discuss issues specific to the LGBTQ+ community in real estate:</p>\n\n<p style="margin: 0px\; padding: 10px 0px 0px\; box-sizing: border-box\; color: rgb(111\, 114\, 135)\; font-size: 16px\; line-height: 1.5rem\; font-family: &quot\;Neue Plak&quot\;\, -apple-system\, BlinkMacSystemFont\, Roboto\, &quot\;Helvetica Neue&quot\;\, Helvetica\, Tahoma\, Arial\, sans-serif\;">What is Gender Identity &amp\; Expression: clarity on terms used such as: sex assigned at birth\, Gender\, Gender Identity\, Gender Expression\, Gender Dysphoria\, and Transition</p>\n\n<p style="margin: 0px\; padding: 10px 0px 0px\; box-sizing: border-box\; color: rgb(111\, 114\, 135)\; font-size: 16px\; line-height: 1.5rem\; font-family: &quot\;Neue Plak&quot\;\, -apple-system\, BlinkMacSystemFont\, Roboto\, &quot\;Helvetica Neue&quot\;\, Helvetica\, Tahoma\, Arial\, sans-serif\;">Realtor Code of Ethics: Fair housing requirements of the NAR Code of Ethics and how it compares to state and federal Law</p>\n\n<p style="margin: 0px\; padding: 10px 0px 0px\; box-sizing: border-box\; color: rgb(111\, 114\, 135)\; font-size: 16px\; line-height: 1.5rem\; font-family: &quot\;Neue Plak&quot\;\, -apple-system\, BlinkMacSystemFont\, Roboto\, &quot\;Helvetica Neue&quot\;\, Helvetica\, Tahoma\, Arial\, sans-serif\;">State and Local Laws: A review of states and localities that have created laws stricter than the federal Fair Housing Laws and the impact on quality of Life (data from the ACLU)</p>\n\n<p style="margin: 0px\; padding: 10px 0px 0px\; box-sizing: border-box\; color: rgb(111\, 114\, 135)\; font-size: 16px\; line-height: 1.5rem\; font-family: &quot\;Neue Plak&quot\;\, -apple-system\, BlinkMacSystemFont\, Roboto\, &quot\;Helvetica Neue&quot\;\, Helvetica\, Tahoma\, Arial\, sans-serif\;">Equality / Diversity / Inclusion &amp\; Difficult Conversations: Define the terms equality\, equity\, inclusion\, diversity and others. A Review of &quot\;microaggressions&quot\; &amp\; &quot\;microinterventions&quot\;</p>\n\n<p style="margin: 0px\; padding: 10px 0px 0px\; box-sizing: border-box\; color: rgb(111\, 114\, 135)\; font-size: 16px\; line-height: 1.5rem\; font-family: &quot\;Neue Plak&quot\;\, -apple-system\, BlinkMacSystemFont\, Roboto\, &quot\;Helvetica Neue&quot\;\, Helvetica\, Tahoma\, Arial\, sans-serif\;">Legal Recognition of trans &amp\; non-binary Individuals: A review of state and federal law regarding recognition of trans and non-binary individuals</p>\n\n<p style="margin: 0px\; padding: 10px 0px 0px\; box-sizing: border-box\; color: rgb(111\, 114\, 135)\; font-size: 16px\; line-height: 1.5rem\; font-family: &quot\;Neue Plak&quot\;\, -apple-system\, BlinkMacSystemFont\, Roboto\, &quot\;Helvetica Neue&quot\;\, Helvetica\, Tahoma\, Arial\, sans-serif\;">Real Estate and LGBTQ+ issues: A review of Legal documents &amp\; challenges &quot\;deadnames&quot\;\, &amp\; best practices when representing gay\, trans\, and non-heteronormal clients<br />\n<br />\n&nbsp\;</p>\n\n<h3 style="margin: 0px\; padding: 10px 0px 0px\; box-sizing: border-box\; color: rgb(30\, 10\, 60)\; font-size: 20px\; line-height: 1.75rem\; font-family: &quot\;Neue Plak&quot\;\, -apple-system\, BlinkMacSystemFont\, Roboto\, &quot\;Helvetica Neue&quot\;\, Helvetica\, Tahoma\, Arial\, sans-serif\;">W&#65279\;ith Special Guests:</h3>\n\n<h3 style="margin: 0px\; padding: 10px 0px 0px\; box-sizing: border-box\; color: rgb(30\, 10\, 60)\; font-size: 20px\; line-height: 1.75rem\; font-family: &quot\;Neue Plak&quot\;\, -apple-system\, BlinkMacSystemFont\, Roboto\, &quot\;Helvetica Neue&quot\;\, Helvetica\, Tahoma\, Arial\, sans-serif\;">Stevie Tran\, JD</h3>\n\n<p style="margin: 0px\; padding: 10px 0px 0px\; box-sizing: border-box\; color: rgb(111\, 114\, 135)\; font-size: 16px\; line-height: 1.5rem\; font-family: &quot\;Neue Plak&quot\;\, -apple-system\, BlinkMacSystemFont\, Roboto\, &quot\;Helvetica Neue&quot\;\, Helvetica\, Tahoma\, Arial\, sans-serif\;">Juris Doctor\, May 2013\, Cum Laude</p>\n\n<p style="margin: 0px\; padding: 10px 0px 0px\; box-sizing: border-box\; color: rgb(111\, 114\, 135)\; font-size: 16px\; line-height: 1.5rem\; font-family: &quot\;Neue Plak&quot\;\, -apple-system\, BlinkMacSystemFont\, Roboto\, &quot\;Helvetica Neue&quot\;\, Helvetica\, Tahoma\, Arial\, sans-serif\;">Maurice A. Deane School of Law at Hofstra University\, Hempstead\, NY 2012-2013</p>\n\n<p style="margin: 0px\; padding: 10px 0px 0px\; box-sizing: border-box\; color: rgb(111\, 114\, 135)\; font-size: 16px\; line-height: 1.5rem\; font-family: &quot\;Neue Plak&quot\;\, -apple-system\, BlinkMacSystemFont\, Roboto\, &quot\;Helvetica Neue&quot\;\, Helvetica\, Tahoma\, Arial\, sans-serif\;">&nbsp\;</p>\n\n<h3 style="margin: 0px\; padding: 10px 0px 0px\; box-sizing: border-box\; color: rgb(30\, 10\, 60)\; font-size: 20px\; line-height: 1.75rem\; font-family: &quot\;Neue Plak&quot\;\, -apple-system\, BlinkMacSystemFont\, Roboto\, &quot\;Helvetica Neue&quot\;\, Helvetica\, Tahoma\, Arial\, sans-serif\;">Nathan Arrowsmith\, JD</h3>\n\n<p style="margin: 0px\; padding: 10px 0px 0px\; box-sizing: border-box\; color: rgb(111\, 114\, 135)\; font-size: 16px\; line-height: 1.5rem\; font-family: &quot\;Neue Plak&quot\;\, -apple-system\, BlinkMacSystemFont\, Roboto\, &quot\;Helvetica Neue&quot\;\, Helvetica\, Tahoma\, Arial\, sans-serif\;">Sandra Day O&rsquo\;Connor College of Law\, Arizona State University\, Tempe\, AZ</p>\n\n<p style="margin: 0px\; padding: 10px 0px 0px\; box-sizing: border-box\; color: rgb(111\, 114\, 135)\; font-size: 16px\; line-height: 1.5rem\; font-family: &quot\;Neue Plak&quot\;\, -apple-system\, BlinkMacSystemFont\, Roboto\, &quot\;Helvetica Neue&quot\;\, Helvetica\, Tahoma\, Arial\, sans-serif\;">J.D.\, magna cum laude\, Order of the Coif\, Dean&rsquo\;s Award\; May 2013</p>\n
LOCATION:Old Republic Title Training Room 2325 E Camelback Rd. Ste 120 Phoenix\, AZ 85016
UID:e.2837.768
SEQUENCE:3
DTSTAMP:20260423T212345Z
URL:https://business.equalitychamber.org/events/details/lgbtq-issues-in-real-estate-3-hours-fair-housing-continuing-education-768
END:VEVENT

END:VCALENDAR
