BEGIN:VCALENDAR
VERSION:2.0
PRODID:-//ChamberMaster//Event Calendar 2.0//EN
METHOD:PUBLISH
X-PUBLISHED-TTL:P3D
REFRESH-INTERVAL:P3D
CALSCALE:GREGORIAN
BEGIN:VEVENT
DTSTART:20230512T000000Z
DTEND:20230512T023000Z
X-MICROSOFT-CDO-ALLDAYEVENT:FALSE
SUMMARY:LGBTQ+ Pitch Night
DESCRIPTION:Could you use a grant $250\, $500\, or $1\,000 for your business?\n\n \n\nWe are so excited to formally invite you to participate in the Greater Phoenix Equality Chamber's LGBTQ+ Pitch Program! This program is a chance for LGBTQ+ business owners to informally present their business to a panel of experts and your fellow entrepreneurs for positive\, constructive feedback\, new ideas\, and grants worth $1\,000\, $500\, or $250. \n\nIf you have a 5-minute (or less) presentation with all the bells and whistles: great! If not: that's great\, too! Simply bring your "elevator pitch" and any messaging you'd like to work on with our experts. This is an open forum! Although these are mock pitches\, these programs are a tremendous opportunity for LGBTQ+ owned businesses to form new relationships\, learn what other LGBTQ+ business owners are working on\, and support one another in your entrepreneurial journeys.
X-ALT-DESC;FMTTYPE=text/html:<p><b><span style="font-size:12.0pt\;font-family:&quot\;Georgia&quot\;\,serif\;color:#1B1B1B">Could you use a grant $250\, $500\, or $1\,000 for your business?</span></b><span style="font-size:10.5pt\;font-family:&quot\;Georgia&quot\;\,serif\;color:#7E7E7E"><o:p></o:p></span><br />\n&nbsp\;</p>\n\n<p><span style="font-size:10.5pt\;font-family:&quot\;Georgia&quot\;\,serif\;color:#403F42">We are so excited to formally invite you to participate in the Greater Phoenix Equality Chamber&#39\;s LGBTQ+&nbsp\;Pitch Program! This program is a chance for </span><span style="color: rgb(64\, 63\, 66)\; font-family: Georgia\, serif\; font-size: 14px\;">LGBTQ+&nbsp\;</span><span style="font-size:10.5pt\;font-family:&quot\;Georgia&quot\;\,serif\;color:#403F42">business owners to informally present their business to a panel of experts and your fellow entrepreneurs for positive\, constructive feedback\, new ideas\, and grants worth $1\,000\, $500\, or $250.&nbsp\;</span><span style="font-size:10.5pt\;font-family:&quot\;Georgia&quot\;\,serif\;color:#7E7E7E"><o:p></o:p></span></p>\n\n<p><span style="font-size:10.5pt\;font-family:&quot\;Georgia&quot\;\,serif\;color:#403F42">If you have a 5-minute (or less) presentation with all the bells and whistles: great! If not: that&#39\;s great\, too! Simply bring your &quot\;elevator pitch&quot\;&nbsp\;and any messaging you&#39\;d like to work on with our experts. This is an open forum! Although these are mock pitches\, these programs are a tremendous opportunity for </span><span style="color: rgb(64\, 63\, 66)\; font-family: Georgia\, serif\; font-size: 14px\;">LGBTQ+&nbsp\;</span><span style="font-size:10.5pt\;font-family:&quot\;Georgia&quot\;\,serif\;color:#403F42">owned businesses to form new relationships\, learn what other </span><span style="color: rgb(64\, 63\, 66)\; font-family: Georgia\, serif\; font-size: 14px\;">LGBTQ+</span><span style="font-size:10.5pt\;font-family:&quot\;Georgia&quot\;\,serif\;color:#403F42"> business owners are working on\, and support one another in your entrepreneurial journeys.&nbsp\;</span><span style="font-size:10.5pt\;font-family:&quot\;Georgia&quot\;\,serif\;\ncolor:#7E7E7E"><o:p></o:p></span></p>\n
LOCATION:Zoom Call
UID:e.2837.736
SEQUENCE:3
DTSTAMP:20260423T212106Z
URL:https://business.equalitychamber.org/events/details/lgbtq-pitch-night-736
END:VEVENT

END:VCALENDAR
