BEGIN:VCALENDAR
VERSION:2.0
PRODID:-//ChamberMaster//Event Calendar 2.0//EN
METHOD:PUBLISH
X-PUBLISHED-TTL:P3D
REFRESH-INTERVAL:P3D
CALSCALE:GREGORIAN
BEGIN:VEVENT
DTSTART:20230304T180000Z
DTEND:20230305T000000Z
X-MICROSOFT-CDO-ALLDAYEVENT:FALSE
SUMMARY:Melrose Street Fair
DESCRIPTION:The Melrose 7th Ave Street Fair is a one-day event that spans over a half mile in the heart of Phoenix's Melrose District. The event runs from Indian School to Camelback Road along 7th Ave. The event is free to the public and features over 200 local and independent artisans\, food trucks\, live music\, farmers market\, kids activities and craft beer garden. All of this including awesome local businesses long 7th Ave. Patrons can also enjoy the ever popular Chester's Classic Car Show\, which welcomes over 200 classic\, antique and vintage cars\, truck and hot-rods.\n\nThe event is hosted by the Seventh Avenue Merchants Association (SAMA)\, a non profit organization established to further the unique character and assets of the Melrose Curve to facilitate safety\, community\, revitalization and beautification. Celebrating our 22nd year as an organization this will be our 20th Street Fair.\n\nWith over 25\,000+ community enthusiasts who attended the street fair last year\, becoming a sponsor is a great way to support local events and expose your business to the masses
X-ALT-DESC;FMTTYPE=text/html:<p style="overflow-wrap: break-word\; color: rgb(146\, 144\, 144)\; font-family: din-condensed-web\; font-size: 20px\; letter-spacing: 0.6px\; white-space: pre-wrap\;">The Melrose 7th Ave Street Fair is a one-day event that spans over a half mile in the heart of Phoenix&rsquo\;s Melrose District. The event runs from Indian School to Camelback Road along 7th Ave. The event is free to the public and features over 200 local and independent artisans\, food trucks\, live music\, farmers market\, kids activities and craft beer garden. All of this including awesome local businesses long 7th Ave. Patrons can also enjoy the ever popular Chester&rsquo\;s Classic Car Show\, which welcomes over 200 classic\, antique and vintage cars\, truck and hot-rods.</p>\n\n<p style="overflow-wrap: break-word\; color: rgb(146\, 144\, 144)\; font-family: din-condensed-web\; font-size: 20px\; letter-spacing: 0.6px\; white-space: pre-wrap\;">The event is hosted by the Seventh Avenue Merchants Association (SAMA)\, a non profit organization established to further the unique character and assets of the Melrose Curve to facilitate safety\, community\, revitalization and beautification. Celebrating our 22nd year as an organization this will be our 20th Street Fair.</p>\n\n<p style="overflow-wrap: break-word\; color: rgb(146\, 144\, 144)\; font-family: din-condensed-web\; font-size: 20px\; letter-spacing: 0.6px\; white-space: pre-wrap\;">With over 25\,000+ community enthusiasts who attended the street fair last year\, becoming a sponsor is a great way to support local events and expose your business to the masses</p>\n
LOCATION:
UID:e.2837.752
SEQUENCE:3
DTSTAMP:20260424T001819Z
URL:https://business.equalitychamber.org/events/details/melrose-street-fair-752
END:VEVENT

END:VCALENDAR
