BEGIN:VCALENDAR
VERSION:2.0
PRODID:-//ChamberMaster//Event Calendar 2.0//EN
METHOD:PUBLISH
X-PUBLISHED-TTL:P3D
REFRESH-INTERVAL:P3D
CALSCALE:GREGORIAN
BEGIN:VEVENT
DTSTART:20220804T230000Z
DTEND:20220805T000000Z
X-MICROSOFT-CDO-ALLDAYEVENT:FALSE
SUMMARY:Monkeypox Informational Town Hall
DESCRIPTION:Learn more about how monkeypox is impacting our LGBTQIA2S+ communities.  The Southwest Center panel will be answering your questions.\n\n\n\nTune in to Facebook live for Q&A\, or comment or DM your questions now.
X-ALT-DESC;FMTTYPE=text/html:Learn more about how monkeypox is impacting our LGBTQIA2S+ communities.&nbsp\; The Southwest Center panel will be answering your questions.<br />\n<br />\nTune in to Facebook live for Q&amp\;A\, or comment or DM your questions now.
LOCATION:Facebook Live https://www.facebook.com/SWCforHIVAIDS
UID:e.2837.726
SEQUENCE:3
DTSTAMP:20260424T111342Z
URL:https://business.equalitychamber.org/events/details/monkeypox-informational-town-hall-726
END:VEVENT

END:VCALENDAR
