BEGIN:VCALENDAR
VERSION:2.0
PRODID:-//ChamberMaster//Event Calendar 2.0//EN
METHOD:PUBLISH
X-PUBLISHED-TTL:P3D
REFRESH-INTERVAL:P3D
CALSCALE:GREGORIAN
BEGIN:VEVENT
DTSTART:20221001T150000Z
DTEND:20221001T230000Z
X-MICROSOFT-CDO-ALLDAYEVENT:FALSE
SUMMARY:Monkeypox Vaccine Clinic
DESCRIPTION:Monkeypox Vaccine Clinic\n\nOPEN TO EVERYONE
X-ALT-DESC;FMTTYPE=text/html:Monkeypox Vaccine Clinic<br />\nOPEN TO EVERYONE
LOCATION:1101 N Central Ave Phoenix\, AZ 85014
UID:e.2837.737
SEQUENCE:3
DTSTAMP:20260424T093341Z
URL:https://business.equalitychamber.org/events/details/monkeypox-vaccine-clinic-737
END:VEVENT

END:VCALENDAR
