BEGIN:VCALENDAR
VERSION:2.0
PRODID:-//ChamberMaster//Event Calendar 2.0//EN
METHOD:PUBLISH
X-PUBLISHED-TTL:P3D
REFRESH-INTERVAL:P3D
CALSCALE:GREGORIAN
BEGIN:VEVENT
DTSTART:20211110T150000Z
DTEND:20211110T153000Z
X-MICROSOFT-CDO-ALLDAYEVENT:FALSE
SUMMARY:Morning Virtual Leads and Referrals
DESCRIPTION:Join us for our normal 2nd Wednesday of each month breakfast Netmixer! This virtual event will be all about producing valuable new business. Please bring your leads and let's produce some sales! This can be needs and wants from your community\, your family\, your friends or neighbors. Let's cast the net far and wide and help fellow chamber members during these difficult times. Come prepared to help and spread the business love.
X-ALT-DESC;FMTTYPE=text/html:<span style="color:black\;"><span style="font-family:georgia\,serif\;"><span style="font-size:12.0pt\;">Join us for our normal 2nd Wednesday of each month breakfast Netmixer! This virtual event will be all about producing valuable new business. Please bring your leads and let&rsquo\;s produce some sales! This can be needs and wants from your community\, your family\, your friends or neighbors. Let&rsquo\;s cast the net far and wide and help fellow chamber members during these difficult times. Come prepared to help and spread the business love.</span></span></span>&nbsp\;&nbsp\;
LOCATION:Online via Zoom Meeting This event is FREE and open to all members\, prospective members and friends! REGISTER HERE
UID:e.2837.241
SEQUENCE:3
DTSTAMP:20260425T004739Z
URL:https://business.equalitychamber.org/events/details/morning-virtual-leads-and-referrals-241
END:VEVENT

END:VCALENDAR
