BEGIN:VCALENDAR
VERSION:2.0
PRODID:-//ChamberMaster//Event Calendar 2.0//EN
METHOD:PUBLISH
X-PUBLISHED-TTL:P3D
REFRESH-INTERVAL:P3D
CALSCALE:GREGORIAN
BEGIN:VEVENT
DTSTART;VALUE=DATE:20220327
DTEND;VALUE=DATE:20220328
TRANSP:TRANSPARENT
X-MICROSOFT-CDO-ALLDAYEVENT:TRUE
SUMMARY:one•n•ten / Fresh Brunch
DESCRIPTION:
X-ALT-DESC;FMTTYPE=text/html:
LOCATION:
UID:e.2837.271
SEQUENCE:3
DTSTAMP:20260424T183322Z
URL:https://business.equalitychamber.org/events/details/one-n-ten-fresh-brunch-271
END:VEVENT

END:VCALENDAR
