BEGIN:VCALENDAR
VERSION:2.0
PRODID:-//ChamberMaster//Event Calendar 2.0//EN
METHOD:PUBLISH
X-PUBLISHED-TTL:P3D
REFRESH-INTERVAL:P3D
CALSCALE:GREGORIAN
BEGIN:VEVENT
DTSTART:20240602T173000Z
DTEND:20240602T210000Z
X-MICROSOFT-CDO-ALLDAYEVENT:FALSE
SUMMARY:Phoenix Gay Men's Chorus Brunch
DESCRIPTION:Who doesn't love a gay brunch? Join our friends at the Phoenix Gay Men's Chorus for a fabulous time.
X-ALT-DESC;FMTTYPE=text/html:Who doesn&#39\;t love a gay brunch? Join our friends at the Phoenix Gay Men&#39\;s Chorus for a fabulous time.&nbsp\;
LOCATION:Culinary Dropout Tempe
UID:e.2837.1759
SEQUENCE:3
DTSTAMP:20260423T092838Z
URL:https://business.equalitychamber.org/events/details/phoenix-gay-men-s-chorus-brunch-1759
END:VEVENT

END:VCALENDAR
