BEGIN:VCALENDAR
VERSION:2.0
PRODID:-//ChamberMaster//Event Calendar 2.0//EN
METHOD:PUBLISH
X-PUBLISHED-TTL:P3D
REFRESH-INTERVAL:P3D
CALSCALE:GREGORIAN
BEGIN:VEVENT
DTSTART:20220605T020000Z
DTEND:20220605T050000Z
X-MICROSOFT-CDO-ALLDAYEVENT:FALSE
SUMMARY:Phoenix Gay Men's Chorus Presents Homecoming
DESCRIPTION:Phoenix Gay Men's Chorus is thrilled to announce the return to Tempe Center for the Arts for their 30th Season Finale Celebration Homecoming. This concert will delight audiences with the sights and sounds of 50 members of the chorus performing memorable songs from their thirty-year history and more! The program will include Somebody to Love\, Not My Father's Son\, Teenage Dream\, How Far I'll Go\, and many more magical medleys from Broadway\, Disney\, and the hit TV show Glee!\n\n\n\nSpecial Guests for Homecoming include drag entertainers Olivia Gardens and Patricia Mason\, a color guard led by David Watts\, a dance squad led by Jordan Elmore\, and other surprise appearances!
X-ALT-DESC;FMTTYPE=text/html:<span style="color:black\;"><span style="font-family:arial\,sans-serif\;"><span style="font-size:12.0pt\;">Phoenix Gay Men&rsquo\;s Chorus is thrilled to announce the return to Tempe Center for the Arts for their 30th Season Finale Celebration&nbsp\;<strong><em>Homecoming</em></strong><em>.</em>&nbsp\;This concert will delight audiences with the sights and sounds of 50 members of the chorus performing memorable songs from their thirty-year history and more! The program will include&nbsp\;<strong><em>Somebody to Love</em></strong>\,&nbsp\;<strong><em>Not My Father&rsquo\;s Son</em></strong>\,&nbsp\;<strong><em>Teenage Dream</em></strong>\,&nbsp\;<strong><em>How Far I&rsquo\;ll Go</em></strong>\, and many more magical medleys from Broadway\, Disney\, and the hit TV show Glee!<br />\n<br />\nSpecial Guests for Homecoming include&nbsp\;<strong>drag entertainers Olivia Gardens and Patricia Mason</strong>\, a color guard led by&nbsp\;<strong>David Watts</strong>\,&nbsp\;<span style="background-image:initial\;background-position:initial\;background-size:initial\;background-repeat:initial\;background-attachment:initial\;background-origin:initial\;background-clip:initial\;">a dance squad led by&nbsp\;<strong>Jordan Elmore</strong>\, and other surprise appearances!&nbsp\;</span></span></span></span><br />\n&nbsp\;
LOCATION:Tempe Center for the Arts 700 W Rio Salado Parkway Tempe\, AZ 85281
UID:e.2837.705
SEQUENCE:3
DTSTAMP:20260424T140303Z
URL:https://business.equalitychamber.org/events/details/phoenix-gay-men-s-chorus-presents-homecoming-705
END:VEVENT

END:VCALENDAR
