BEGIN:VCALENDAR
VERSION:2.0
PRODID:-//ChamberMaster//Event Calendar 2.0//EN
METHOD:PUBLISH
X-PUBLISHED-TTL:P3D
REFRESH-INTERVAL:P3D
CALSCALE:GREGORIAN
BEGIN:VEVENT
DTSTART:20240616T230000Z
DTEND:20240617T030000Z
X-MICROSOFT-CDO-ALLDAYEVENT:FALSE
SUMMARY:Phoenix Pride Awards
DESCRIPTION:Enjoy an evening celebrating and honoring the Phoenix Pride community with the Phoenix Pride Awards Reception. Awards include community spirit\, scholarships\, community grants\, and parades.\n\n\n\nCOMBO ticket prices include tickets to Reception and Pageant at $20 per show for a full total of $40.
X-ALT-DESC;FMTTYPE=text/html:<span style="font-family: &quot\;Open Sans&quot\;\, &quot\;Helvetica Neue&quot\;\, Helvetica\, Arial\, sans-serif\; font-size: 12.6px\;">Enjoy an evening celebrating and honoring the Phoenix Pride community with the Phoenix Pride Awards Reception. Awards include community spirit\, scholarships\, community grants\, and parades.</span><br style="font-family: &quot\;Open Sans&quot\;\, &quot\;Helvetica Neue&quot\;\, Helvetica\, Arial\, sans-serif\; font-size: 12.6px\;" />\n<br style="font-family: &quot\;Open Sans&quot\;\, &quot\;Helvetica Neue&quot\;\, Helvetica\, Arial\, sans-serif\; font-size: 12.6px\;" />\n<span style="font-family: &quot\;Open Sans&quot\;\, &quot\;Helvetica Neue&quot\;\, Helvetica\, Arial\, sans-serif\; font-size: 12.6px\;">COMBO ticket prices include tickets to Reception and Pageant at $20 per show for a full total of $40.&nbsp\;</span>
LOCATION:Tempe Center for the Arts
UID:e.2837.1761
SEQUENCE:3
DTSTAMP:20260420T102702Z
URL:https://business.equalitychamber.org/events/details/phoenix-pride-awards-1761
END:VEVENT

END:VCALENDAR
