BEGIN:VCALENDAR
VERSION:2.0
PRODID:-//ChamberMaster//Event Calendar 2.0//EN
METHOD:PUBLISH
X-PUBLISHED-TTL:P3D
REFRESH-INTERVAL:P3D
CALSCALE:GREGORIAN
BEGIN:VEVENT
DTSTART;VALUE=DATE:20230401
DTEND;VALUE=DATE:20230403
TRANSP:TRANSPARENT
X-MICROSOFT-CDO-ALLDAYEVENT:TRUE
SUMMARY:Phoenix Pride Rainbows Festival
DESCRIPTION:Phoenix Pride is the proud producer of the "Arizona's Greatest Street Fair"\, the Rainbows Festival. The annual Rainbows Festival & Street Fair is a celebration of the diversity of the LGBTQ+ community. The event is located in historic Heritage Square Park in Downtown Phoenix. Each year\, the Rainbows Festival draws a crowd of over 25\,000 friends\, families\, and allies. Rainbows Festival is the 2nd largest LGBTQ+ event in the state of Arizona\, only 2nd to the Phoenix Pride Festival.\n\nThe annual Rainbows Festival is a free event open to the public. We host over 150 exhibitors and sponsors throughout the two-day event and have 2 stages filled with entertainment throughout the weekend.
X-ALT-DESC;FMTTYPE=text/html:<p style="box-sizing: border-box\; margin: 0px\; padding: 0px 0px 27px\; border: 0px\; font-variant-numeric: inherit\; font-variant-east-asian: inherit\; font-stretch: inherit\; font-size: 16px\; line-height: inherit\; font-family: &quot\;Open Sans&quot\;\; vertical-align: baseline\; -webkit-font-smoothing: antialiased\; color: rgb(103\, 103\, 103)\;">Phoenix Pride is the proud producer of the &ldquo\;Arizona&rsquo\;s Greatest Street Fair&rdquo\;\, the Rainbows Festival. The annual Rainbows Festival &amp\; Street Fair is a celebration of the diversity of the LGBTQ+ community. The event is located in historic Heritage Square Park in Downtown Phoenix. Each year\, the Rainbows Festival draws a crowd of over 25\,000 friends\, families\, and allies. Rainbows Festival is the 2nd largest LGBTQ+ event in the state of Arizona\, only 2nd to the Phoenix Pride Festival.</p>\n\n<p style="box-sizing: border-box\; margin: 0px\; padding: 0px 0px 27px\; border: 0px\; font-variant-numeric: inherit\; font-variant-east-asian: inherit\; font-stretch: inherit\; font-size: 16px\; line-height: inherit\; font-family: &quot\;Open Sans&quot\;\; vertical-align: baseline\; -webkit-font-smoothing: antialiased\; color: rgb(103\, 103\, 103)\;">The annual Rainbows Festival is a free event open to the public. We host over 150 exhibitors and sponsors throughout the two-day event and have 2 stages filled with entertainment throughout the weekend.</p>\n
LOCATION:Heritage Square Park
UID:e.2837.753
SEQUENCE:3
DTSTAMP:20260423T225855Z
URL:https://business.equalitychamber.org/events/details/phoenix-pride-rainbows-festival-753
END:VEVENT

END:VCALENDAR
