BEGIN:VCALENDAR
VERSION:2.0
PRODID:-//ChamberMaster//Event Calendar 2.0//EN
METHOD:PUBLISH
X-PUBLISHED-TTL:P3D
REFRESH-INTERVAL:P3D
CALSCALE:GREGORIAN
BEGIN:VEVENT
DTSTART:20220808T023000Z
DTEND:20220808T040000Z
X-MICROSOFT-CDO-ALLDAYEVENT:FALSE
SUMMARY:Phoenix Theatre Company\, On Your Feet!
DESCRIPTION:Community Night for On Your Feet! is August 7! Join us and experience the inspiring true story of Gloria and Emilio Estefan\, featuring hits like "Conga\," "Dr. Beat\," and more! Pay-What-You-Can*\, socialize at our ArtBar+Bistro before the show\, and let the rhythm get you!
X-ALT-DESC;FMTTYPE=text/html:<table align="left" cellpadding="0" cellspacing="0" hspace="0" vspace="0">\n	<tbody>\n		<tr>\n			<td align="left" style="padding-top:0in\;padding-right:2.25pt\;padding-bottom:0in\;padding-left:2.25pt\;vertical-align:top\;"><span style="color:black\;"><span style="font-family:arial\,sans-serif\;"><span style="font-size:11.5pt\;">Community Night for <em><a href="https://phoenixtheatre.prospect2.com/Prod/link-tracker?redirectUrl=aHR0cHMlM0ElMkYlMkZwaG9lbml4dGhlYXRyZS5jb20lMkZ0aGUtc2Vhc29uJTJGeW91ci1mZWV0LXN0b3J5LWVtaWxpby1nbG9yaWEtZXN0ZWZhbg==&amp\;sig=68ETFHxTM1EU3MmXuYakGqyJ6GXptqiuDFG6MHsCp3Bs&amp\;iat=1658959453&amp\;a=%7C%7C68138962%7C%7C&amp\;account=phoenixtheatre%2Eactivehosted%2Ecom&amp\;email=5At3R1Vm22pUdzbfwCdoY8gEovH7ynYUAgOJ4jNiE%2Bs%3D&amp\;s=b60a0943e1551a7024f2bc33e0d651ca&amp\;i=79A100A1A809"><span style="color:#E21E26\;">On Your Feet!</span></a> </em>is August 7! Join us and experience the inspiring true story of Gloria and Emilio Estefan\, featuring hits like &quot\;Conga\,&quot\; &quot\;Dr. Beat\,&quot\; and more! Pay-What-You-Can*\, socialize at our ArtBar+Bistro before the show\, and let the rhythm get you!</span></span></span></td>\n		</tr>\n	</tbody>\n</table>\n\n<div style="clear:both\;">&nbsp\;</div>\n
LOCATION:1825 N Central Ave Phoenix\, AZ 85004
UID:e.2837.725
SEQUENCE:3
DTSTAMP:20260424T112453Z
URL:https://business.equalitychamber.org/events/details/phoenix-theatre-company-on-your-feet-725
END:VEVENT

END:VCALENDAR
