BEGIN:VCALENDAR
VERSION:2.0
PRODID:-//ChamberMaster//Event Calendar 2.0//EN
METHOD:PUBLISH
X-PUBLISHED-TTL:P3D
REFRESH-INTERVAL:P3D
CALSCALE:GREGORIAN
BEGIN:VEVENT
DTSTART:20220605T000000Z
DTEND:20220605T063000Z
X-MICROSOFT-CDO-ALLDAYEVENT:FALSE
SUMMARY:PHXGMC Homecoming Gala Celebration
DESCRIPTION:Attendees will get more than just a performance! Guests will enjoy multiple experiences including dinner\, cocktails\, and refreshments throughout the evening\, VIP seating during the concert\, and admission to our after-party that will include dancing with the chorus! Tickets are selling quickly for this upgrade with less than 30 seats remaining!
X-ALT-DESC;FMTTYPE=text/html:<span style="background-image:initial\;background-position:initial\;background-size:initial\;background-repeat:initial\;background-attachment:initial\;background-origin:initial\;background-clip:initial\;"><span style="color:black\;"><span style="font-family:arial\,sans-serif\;"><span style="font-size:12pt\;">Attendees will get more than just a performance! Guests will enjoy multiple experiences including dinner\, cocktails\, and refreshments throughout the evening\, VIP seating during the concert\, and admission to our after-party that will include dancing with the chorus! Tickets are selling quickly for this upgrade with less than 30 seats remaining!&nbsp\;</span></span></span></span>
LOCATION:Tempe Center for the Arts 700 W Rio Salado Parkway Tempe\, AZ 85281
UID:e.2837.707
SEQUENCE:3
DTSTAMP:20260424T140101Z
URL:https://business.equalitychamber.org/events/details/phxgmc-homecoming-gala-celebration-707
END:VEVENT

END:VCALENDAR
